BEGIN:VCALENDAR
VERSION:2.0
PRODID:-//Solo Atletas - ECPv6.15.16//NONSGML v1.0//EN
CALSCALE:GREGORIAN
METHOD:PUBLISH
X-ORIGINAL-URL:https://soloatletas.com
X-WR-CALDESC:Eventos para Solo Atletas
REFRESH-INTERVAL;VALUE=DURATION:PT1H
X-Robots-Tag:noindex
X-PUBLISHED-TTL:PT1H
BEGIN:VTIMEZONE
TZID:America/Mexico_City
BEGIN:STANDARD
TZOFFSETFROM:-0600
TZOFFSETTO:-0600
TZNAME:CST
DTSTART:20250101T000000
END:STANDARD
END:VTIMEZONE
BEGIN:VEVENT
DTSTART;TZID=America/Mexico_City:20260315T050000
DTEND;TZID=America/Mexico_City:20260315T050000
DTSTAMP:20260422T075817
CREATED:20260102T200934Z
LAST-MODIFIED:20260102T200947Z
UID:10001718-1773550800-1773550800@soloatletas.com
SUMMARY:CARRERA D TEOTIHUACAN 2026 "3 Km\, 5 Km y 10 Km." 21K
DESCRIPTION:
URL:https://soloatletas.com/evento-deportivo/carrera-d-teotihuacan-2026-3-km-5-km-y-10-km-21k-2/
LOCATION:Teotihuacán\, Estado de México\, Teotihuacán\, Estado de México\, Mexico
CATEGORIES:Calle
ATTACH;FMTTYPE=image/jpeg:https://soloatletas.com/wp-content/uploads/IMG_0127.jpeg
ORGANIZER;CN="Marcate":MAILTO:contacto@marcate.com.mx
END:VEVENT
BEGIN:VEVENT
DTSTART;TZID=America/Mexico_City:20260315T050000
DTEND;TZID=America/Mexico_City:20260315T050000
DTSTAMP:20260422T075817
CREATED:20260102T200634Z
LAST-MODIFIED:20260102T200847Z
UID:10001717-1773550800-1773550800@soloatletas.com
SUMMARY:CARRERA D TEOTIHUACAN 2026 "3 Km\, 5 Km y 10 Km." 42K
DESCRIPTION:
URL:https://soloatletas.com/evento-deportivo/carrera-d-teotihuacan-2026-3-km-5-km-y-10-km-21k/
LOCATION:Teotihuacán\, Estado de México\, Teotihuacán\, Estado de México\, Mexico
CATEGORIES:Calle
ATTACH;FMTTYPE=image/jpeg:https://soloatletas.com/wp-content/uploads/IMG_0127.jpeg
ORGANIZER;CN="Marcate":MAILTO:contacto@marcate.com.mx
END:VEVENT
BEGIN:VEVENT
DTSTART;TZID=America/Mexico_City:20260314T100000
DTEND;TZID=America/Mexico_City:20260314T100000
DTSTAMP:20260422T075817
CREATED:20260311T212421Z
LAST-MODIFIED:20260311T212500Z
UID:10001885-1773482400-1773482400@soloatletas.com
SUMMARY:2da Fecha del Serial Nacional de Downhill Atlixco 2026 1.5K
DESCRIPTION:
URL:https://soloatletas.com/evento-deportivo/2da-fecha-del-serial-nacional-de-downhill-atlixco-2026-1-5k/
LOCATION:Puebla Zaragoza\, Puebla\, Puebla Zaragoza\, Zaragoza\, Puebla\, Mexico
CATEGORIES:Ciclismo
ATTACH;FMTTYPE=image/jpeg:https://soloatletas.com/wp-content/uploads/1770136043167_LOGO-300-ATLIXCO-OK.jpg
END:VEVENT
BEGIN:VEVENT
DTSTART;TZID=America/Mexico_City:20260314T070000
DTEND;TZID=America/Mexico_City:20260314T070000
DTSTAMP:20260422T075817
CREATED:20260311T211346Z
LAST-MODIFIED:20260311T211414Z
UID:10001884-1773471600-1773471600@soloatletas.com
SUMMARY:11va Carrera La Salle 2026 3K
DESCRIPTION:
URL:https://soloatletas.com/evento-deportivo/11va-carrera-la-salle-2026-3k/
LOCATION:2a. Sección del Bosque de Chapultepec\, CDMX\, 2a. Sección del Bosque de Chapultepec\, CDMX\, Mexico
CATEGORIES:Calle
ATTACH;FMTTYPE=image/jpeg:https://soloatletas.com/wp-content/uploads/1770218165892_la-salle-logo-1.jpg
ORGANIZER;CN="LaSalle":MAILTO:hola@juzt.run
END:VEVENT
BEGIN:VEVENT
DTSTART;TZID=America/Mexico_City:20260314T070000
DTEND;TZID=America/Mexico_City:20260314T070000
DTSTAMP:20260422T075817
CREATED:20260311T210908Z
LAST-MODIFIED:20260311T211225Z
UID:10001883-1773471600-1773471600@soloatletas.com
SUMMARY:11va Carrera La Salle 2026 5K
DESCRIPTION:
URL:https://soloatletas.com/evento-deportivo/11va-carrera-la-salle-2026-5k/
LOCATION:2a. Sección del Bosque de Chapultepec\, CDMX\, 2a. Sección del Bosque de Chapultepec\, CDMX\, Mexico
CATEGORIES:Calle
ATTACH;FMTTYPE=image/jpeg:https://soloatletas.com/wp-content/uploads/1770218165892_la-salle-logo-1.jpg
ORGANIZER;CN="LaSalle":MAILTO:hola@juzt.run
END:VEVENT
BEGIN:VEVENT
DTSTART;TZID=America/Mexico_City:20260314T050000
DTEND;TZID=America/Mexico_City:20260314T050000
DTSTAMP:20260422T075818
CREATED:20260102T200309Z
LAST-MODIFIED:20260102T200342Z
UID:10001716-1773464400-1773464400@soloatletas.com
SUMMARY:CARRERA D TEOTIHUACAN 2026 "3 Km\, 5 Km y 10 Km." 3K
DESCRIPTION:
URL:https://soloatletas.com/evento-deportivo/carrera-d-teotihuacan-2026-3-km-5-km-y-10-km-3k/
LOCATION:Teotihuacán\, Estado de México\, Teotihuacán\, Estado de México\, Mexico
CATEGORIES:Calle
ATTACH;FMTTYPE=image/jpeg:https://soloatletas.com/wp-content/uploads/IMG_0127.jpeg
ORGANIZER;CN="Marcate":MAILTO:contacto@marcate.com.mx
END:VEVENT
BEGIN:VEVENT
DTSTART;TZID=America/Mexico_City:20260314T050000
DTEND;TZID=America/Mexico_City:20260314T050000
DTSTAMP:20260422T075818
CREATED:20260102T200014Z
LAST-MODIFIED:20260102T200201Z
UID:10001715-1773464400-1773464400@soloatletas.com
SUMMARY:CARRERA D TEOTIHUACAN 2026 "3 Km\, 5 Km y 10 Km." 5K
DESCRIPTION:
URL:https://soloatletas.com/evento-deportivo/carrera-d-teotihuacan-2026-3-km-5-km-y-10-km-5k/
LOCATION:Teotihuacán\, Estado de México\, Teotihuacán\, Estado de México\, Mexico
CATEGORIES:Calle
ATTACH;FMTTYPE=image/jpeg:https://soloatletas.com/wp-content/uploads/IMG_0127.jpeg
ORGANIZER;CN="Marcate":MAILTO:contacto@marcate.com.mx
END:VEVENT
BEGIN:VEVENT
DTSTART;TZID=America/Mexico_City:20260314T050000
DTEND;TZID=America/Mexico_City:20260314T050000
DTSTAMP:20260422T075818
CREATED:20260102T195726Z
LAST-MODIFIED:20260102T195829Z
UID:10001714-1773464400-1773464400@soloatletas.com
SUMMARY:CARRERA D TEOTIHUACAN 2026 "3 Km\, 5 Km y 10 Km." 10K
DESCRIPTION:
URL:https://soloatletas.com/evento-deportivo/carrera-d-teotihuacan-2026-3-km-5-km-y-10-km-10k/
LOCATION:Teotihuacán\, Estado de México\, Teotihuacán\, Estado de México\, Mexico
CATEGORIES:Calle
ATTACH;FMTTYPE=image/jpeg:https://soloatletas.com/wp-content/uploads/IMG_0127.jpeg
ORGANIZER;CN="Marcate":MAILTO:contacto@marcate.com.mx
END:VEVENT
BEGIN:VEVENT
DTSTART;TZID=America/Mexico_City:20260313T080000
DTEND;TZID=America/Mexico_City:20260315T000000
DTSTAMP:20260422T075818
CREATED:20250508T020327Z
LAST-MODIFIED:20250508T020327Z
UID:10001075-1773388800-1773532800@soloatletas.com
SUMMARY:Nomadix Adventure Ocean to Ocean 2026 presentado por Banorte
DESCRIPTION:
URL:https://soloatletas.com/evento-deportivo/nomadix-adventure-ocean-to-ocean-2026-presentado-por-banorte/
LOCATION:Todos Santos\, Baja California Sur\, Todos Santos\, Todos Santos\, Baja California Sur\, Mexico
CATEGORIES:Ciclismo
ATTACH;FMTTYPE=image/jpeg:https://soloatletas.com/wp-content/uploads/1742235595905_Nomadix-26-logo-300.jpg
END:VEVENT
BEGIN:VEVENT
DTSTART;TZID=America/Mexico_City:20260313T070000
DTEND;TZID=America/Mexico_City:20260313T070000
DTSTAMP:20260422T075818
CREATED:20260219T014256Z
LAST-MODIFIED:20260219T014559Z
UID:10001825-1773385200-1773385200@soloatletas.com
SUMMARY:Nomadix Adventure Ocean to Ocean 2026 Equipo Premium
DESCRIPTION:
URL:https://soloatletas.com/evento-deportivo/nomadix-adventure-ocean-to-ocean-2026-equipo-premium/
LOCATION:Baja California Sur\, Baja California Sur\, Baja California Sur\, Mexico
CATEGORIES:Ciclismo
ATTACH;FMTTYPE=image/jpeg:https://soloatletas.com/wp-content/uploads/84c2600b-fae3-4956-aa20-9b38127835e4.jpeg
END:VEVENT
BEGIN:VEVENT
DTSTART;TZID=America/Mexico_City:20260313T070000
DTEND;TZID=America/Mexico_City:20260313T070000
DTSTAMP:20260422T075818
CREATED:20260219T013257Z
LAST-MODIFIED:20260219T013735Z
UID:10001824-1773385200-1773385200@soloatletas.com
SUMMARY:Nomadix Adventure Ocean to Ocean 2026 Equipo Standart
DESCRIPTION:
URL:https://soloatletas.com/evento-deportivo/nomadix-adventure-ocean-to-ocean-2026-equipo-standart/
LOCATION:Baja California Sur\, Baja California Sur\, Baja California Sur\, Mexico
CATEGORIES:Ciclismo
ATTACH;FMTTYPE=image/jpeg:https://soloatletas.com/wp-content/uploads/84c2600b-fae3-4956-aa20-9b38127835e4.jpeg
END:VEVENT
BEGIN:VEVENT
DTSTART;TZID=America/Mexico_City:20260313T070000
DTEND;TZID=America/Mexico_City:20260313T070000
DTSTAMP:20260422T075818
CREATED:20260219T013132Z
LAST-MODIFIED:20260219T013149Z
UID:10001823-1773385200-1773385200@soloatletas.com
SUMMARY:Nomadix Adventure Ocean to Ocean 2026 OPEN E-Bike Premium
DESCRIPTION:
URL:https://soloatletas.com/evento-deportivo/nomadix-adventure-ocean-to-ocean-2026-open-e-bike-premium/
LOCATION:Baja California Sur\, Baja California Sur\, Baja California Sur\, Mexico
CATEGORIES:Ciclismo
ATTACH;FMTTYPE=image/jpeg:https://soloatletas.com/wp-content/uploads/84c2600b-fae3-4956-aa20-9b38127835e4.jpeg
END:VEVENT
BEGIN:VEVENT
DTSTART;TZID=America/Mexico_City:20260313T070000
DTEND;TZID=America/Mexico_City:20260313T070000
DTSTAMP:20260422T075818
CREATED:20260219T012944Z
LAST-MODIFIED:20260219T012955Z
UID:10001822-1773385200-1773385200@soloatletas.com
SUMMARY:Nomadix Adventure Ocean to Ocean 2026 OPEN E-Bike Standart
DESCRIPTION:
URL:https://soloatletas.com/evento-deportivo/nomadix-adventure-ocean-to-ocean-2026-open-e-bike-standart/
LOCATION:Baja California Sur\, Baja California Sur\, Baja California Sur\, Mexico
CATEGORIES:Ciclismo
ATTACH;FMTTYPE=image/jpeg:https://soloatletas.com/wp-content/uploads/84c2600b-fae3-4956-aa20-9b38127835e4.jpeg
END:VEVENT
BEGIN:VEVENT
DTSTART;TZID=America/Mexico_City:20260313T070000
DTEND;TZID=America/Mexico_City:20260313T070000
DTSTAMP:20260422T075818
CREATED:20260219T010842Z
LAST-MODIFIED:20260219T010842Z
UID:10001821-1773385200-1773385200@soloatletas.com
SUMMARY:Nomadix Adventure Ocean to Ocean 2026 MTB Premium
DESCRIPTION:
URL:https://soloatletas.com/evento-deportivo/nomadix-adventure-ocean-to-ocean-2026-mtb-premium/
LOCATION:Baja California Sur\, Baja California Sur\, Baja California Sur\, Mexico
CATEGORIES:Ciclismo
ATTACH;FMTTYPE=image/jpeg:https://soloatletas.com/wp-content/uploads/84c2600b-fae3-4956-aa20-9b38127835e4.jpeg
END:VEVENT
BEGIN:VEVENT
DTSTART;TZID=America/Mexico_City:20260313T070000
DTEND;TZID=America/Mexico_City:20260313T070000
DTSTAMP:20260422T075818
CREATED:20260219T010610Z
LAST-MODIFIED:20260219T010714Z
UID:10001820-1773385200-1773385200@soloatletas.com
SUMMARY:Nomadix Adventure Ocean to Ocean 2026 MTB Standart
DESCRIPTION:
URL:https://soloatletas.com/evento-deportivo/nomadix-adventure-ocean-to-ocean-2026-mtb-standart/
LOCATION:Baja California Sur\, Baja California Sur\, Baja California Sur\, Mexico
CATEGORIES:Ciclismo
ATTACH;FMTTYPE=image/jpeg:https://soloatletas.com/wp-content/uploads/84c2600b-fae3-4956-aa20-9b38127835e4.jpeg
END:VEVENT
BEGIN:VEVENT
DTSTART;TZID=America/Mexico_City:20260310T060000
DTEND;TZID=America/Mexico_City:20260310T060000
DTSTAMP:20260422T075818
CREATED:20260120T210040Z
LAST-MODIFIED:20260120T210050Z
UID:10001770-1773122400-1773122400@soloatletas.com
SUMMARY:5K Y 10K SCHOENSTATT 5K
DESCRIPTION:
URL:https://soloatletas.com/evento-deportivo/5k-y-10k-schoenstatt-5k/
LOCATION:Monterrey\, Nuevo León\, Monterrey\, Nuevo León\, Mexico
CATEGORIES:Calle
ATTACH;FMTTYPE=image/png:https://soloatletas.com/wp-content/uploads/IMG_0196.png
END:VEVENT
BEGIN:VEVENT
DTSTART;TZID=America/Mexico_City:20260310T060000
DTEND;TZID=America/Mexico_City:20260310T060000
DTSTAMP:20260422T075818
CREATED:20260120T205857Z
LAST-MODIFIED:20260120T210333Z
UID:10001769-1773122400-1773122400@soloatletas.com
SUMMARY:5K Y 10K SCHOENSTATT 10K
DESCRIPTION:
URL:https://soloatletas.com/evento-deportivo/5k-y-10k-schoenstatt-10k/
LOCATION:Monterrey\, Nuevo León\, Monterrey\, Nuevo León\, Mexico
CATEGORIES:Calle
ATTACH;FMTTYPE=image/png:https://soloatletas.com/wp-content/uploads/IMG_0196.png
END:VEVENT
BEGIN:VEVENT
DTSTART;TZID=America/Mexico_City:20260308T080000
DTEND;TZID=America/Mexico_City:20260308T080000
DTSTAMP:20260422T075818
CREATED:20251219T175631Z
LAST-MODIFIED:20251219T175641Z
UID:10001508-1772956800-1772956800@soloatletas.com
SUMMARY:Discovery OffRoad Trail CDMX 2026 5K
DESCRIPTION:
URL:https://soloatletas.com/evento-deportivo/discovery-offroad-trail-cdmx-2026-5k/
LOCATION:Ciudad de México\, CDMX\, Centro\, Ciudad de México\, CDMX\, Mexico
CATEGORIES:Trail
ATTACH;FMTTYPE=image/jpeg:https://soloatletas.com/wp-content/uploads/IMG_0038.jpeg
END:VEVENT
BEGIN:VEVENT
DTSTART;TZID=America/Mexico_City:20260308T080000
DTEND;TZID=America/Mexico_City:20260308T080000
DTSTAMP:20260422T075818
CREATED:20251219T175450Z
LAST-MODIFIED:20251219T175502Z
UID:10001507-1772956800-1772956800@soloatletas.com
SUMMARY:Discovery OffRoad Trail CDMX 2026 10K
DESCRIPTION:
URL:https://soloatletas.com/evento-deportivo/discovery-offroad-trail-cdmx-2026-10k/
LOCATION:Ciudad de México\, CDMX\, Centro\, Ciudad de México\, CDMX\, Mexico
CATEGORIES:Trail
ATTACH;FMTTYPE=image/jpeg:https://soloatletas.com/wp-content/uploads/IMG_0038.jpeg
END:VEVENT
BEGIN:VEVENT
DTSTART;TZID=America/Mexico_City:20260308T080000
DTEND;TZID=America/Mexico_City:20260308T080000
DTSTAMP:20260422T075818
CREATED:20251219T175329Z
LAST-MODIFIED:20251219T175342Z
UID:10001506-1772956800-1772956800@soloatletas.com
SUMMARY:Discovery OffRoad Trail CDMX 2026 21K
DESCRIPTION:
URL:https://soloatletas.com/evento-deportivo/discovery-offroad-trail-cdmx-2026-21k/
LOCATION:Ciudad de México\, CDMX\, Centro\, Ciudad de México\, CDMX\, Mexico
CATEGORIES:Trail
ATTACH;FMTTYPE=image/jpeg:https://soloatletas.com/wp-content/uploads/IMG_0038.jpeg
END:VEVENT
BEGIN:VEVENT
DTSTART;TZID=America/Mexico_City:20260308T080000
DTEND;TZID=America/Mexico_City:20260308T080000
DTSTAMP:20260422T075818
CREATED:20251219T175011Z
LAST-MODIFIED:20251219T175011Z
UID:10001505-1772956800-1772956800@soloatletas.com
SUMMARY:Discovery OffRoad Trail CDMX 2026 32K
DESCRIPTION:
URL:https://soloatletas.com/evento-deportivo/discovery-offroad-trail-cdmx-2026-32k/
LOCATION:Ciudad de México\, CDMX\, Centro\, Ciudad de México\, CDMX\, Mexico
CATEGORIES:Trail
ATTACH;FMTTYPE=image/jpeg:https://soloatletas.com/wp-content/uploads/IMG_0038.jpeg
END:VEVENT
BEGIN:VEVENT
DTSTART;TZID=America/Mexico_City:20260308T073000
DTEND;TZID=America/Mexico_City:20260308T073000
DTSTAMP:20260422T075818
CREATED:20260117T195337Z
LAST-MODIFIED:20260117T195357Z
UID:10001762-1772955000-1772955000@soloatletas.com
SUMMARY:40° Edición Coyotes Cumbres Chevrolet del Rio 2026 1K
DESCRIPTION:
URL:https://soloatletas.com/evento-deportivo/40-edicion-coyotes-cumbres-chevrolet-del-rio-2026-1k/
LOCATION:Monterrey\, Nuevo León\, Monterrey\, Nuevo León\, Mexico
CATEGORIES:Calle
ATTACH;FMTTYPE=image/jpeg:https://soloatletas.com/wp-content/uploads/32a79bc6-159d-4c81-9b63-18fda2349cd3_Logotipo-1080x10801-1.jpg
END:VEVENT
BEGIN:VEVENT
DTSTART;TZID=America/Mexico_City:20260308T073000
DTEND;TZID=America/Mexico_City:20260308T073000
DTSTAMP:20260422T075818
CREATED:20260117T195241Z
LAST-MODIFIED:20260117T195253Z
UID:10001761-1772955000-1772955000@soloatletas.com
SUMMARY:40° Edición Coyotes Cumbres Chevrolet del Rio 2026 5K
DESCRIPTION:
URL:https://soloatletas.com/evento-deportivo/40-edicion-coyotes-cumbres-chevrolet-del-rio-2026-5k/
LOCATION:Monterrey\, Nuevo León\, Monterrey\, Nuevo León\, Mexico
CATEGORIES:Calle
ATTACH;FMTTYPE=image/jpeg:https://soloatletas.com/wp-content/uploads/32a79bc6-159d-4c81-9b63-18fda2349cd3_Logotipo-1080x10801-1.jpg
END:VEVENT
BEGIN:VEVENT
DTSTART;TZID=America/Mexico_City:20260308T073000
DTEND;TZID=America/Mexico_City:20260308T073000
DTSTAMP:20260422T075818
CREATED:20260117T195137Z
LAST-MODIFIED:20260117T195149Z
UID:10001760-1772955000-1772955000@soloatletas.com
SUMMARY:40° Edición Coyotes Cumbres Chevrolet del Rio 2026 10K
DESCRIPTION:
URL:https://soloatletas.com/evento-deportivo/40-edicion-coyotes-cumbres-chevrolet-del-rio-2026-10k/
LOCATION:Monterrey\, Nuevo León\, Monterrey\, Nuevo León\, Mexico
CATEGORIES:Calle
ATTACH;FMTTYPE=image/jpeg:https://soloatletas.com/wp-content/uploads/32a79bc6-159d-4c81-9b63-18fda2349cd3_Logotipo-1080x10801-1.jpg
END:VEVENT
BEGIN:VEVENT
DTSTART;TZID=America/Mexico_City:20260308T070000
DTEND;TZID=America/Mexico_City:20260308T070000
DTSTAMP:20260422T075818
CREATED:20251229T203731Z
LAST-MODIFIED:20251229T203742Z
UID:10001634-1772953200-1772953200@soloatletas.com
SUMMARY:Womans Day 2026 Caminata
DESCRIPTION:
URL:https://soloatletas.com/evento-deportivo/womans-day-2026-caminata/
LOCATION:Parque Ecológico de Xochimilco\, Ciudad de México\, Parque Ecológico de Xochimilco\, Ciudad de México\, Ciudad de México\, Mexico
CATEGORIES:Calle
ATTACH;FMTTYPE=image/jpeg:https://soloatletas.com/wp-content/uploads/1762975505944_300X300woman.jpg
ORGANIZER;CN="WomansDay":MAILTO:Mariel@allmkting.com
END:VEVENT
BEGIN:VEVENT
DTSTART;TZID=America/Mexico_City:20260308T070000
DTEND;TZID=America/Mexico_City:20260308T070000
DTSTAMP:20260422T075818
CREATED:20251229T203638Z
LAST-MODIFIED:20251229T203638Z
UID:10001633-1772953200-1772953200@soloatletas.com
SUMMARY:Womans Day 2026 100mt
DESCRIPTION:
URL:https://soloatletas.com/evento-deportivo/womans-day-2026-100mt/
LOCATION:Parque Ecológico de Xochimilco\, Ciudad de México\, Parque Ecológico de Xochimilco\, Ciudad de México\, Ciudad de México\, Mexico
CATEGORIES:Calle
ATTACH;FMTTYPE=image/jpeg:https://soloatletas.com/wp-content/uploads/1762975505944_300X300woman.jpg
ORGANIZER;CN="WomansDay":MAILTO:Mariel@allmkting.com
END:VEVENT
BEGIN:VEVENT
DTSTART;TZID=America/Mexico_City:20260308T070000
DTEND;TZID=America/Mexico_City:20260308T070000
DTSTAMP:20260422T075818
CREATED:20251229T203552Z
LAST-MODIFIED:20251229T203601Z
UID:10001632-1772953200-1772953200@soloatletas.com
SUMMARY:Womans Day 2026 200mt
DESCRIPTION:
URL:https://soloatletas.com/evento-deportivo/womans-day-2026-200mt/
LOCATION:Parque Ecológico de Xochimilco\, Ciudad de México\, Parque Ecológico de Xochimilco\, Ciudad de México\, Ciudad de México\, Mexico
CATEGORIES:Calle
ATTACH;FMTTYPE=image/jpeg:https://soloatletas.com/wp-content/uploads/1762975505944_300X300woman.jpg
ORGANIZER;CN="WomansDay":MAILTO:Mariel@allmkting.com
END:VEVENT
BEGIN:VEVENT
DTSTART;TZID=America/Mexico_City:20260308T070000
DTEND;TZID=America/Mexico_City:20260308T070000
DTSTAMP:20260422T075818
CREATED:20251229T203450Z
LAST-MODIFIED:20251229T203450Z
UID:10001631-1772953200-1772953200@soloatletas.com
SUMMARY:Womans Day 2026 5K
DESCRIPTION:
URL:https://soloatletas.com/evento-deportivo/womans-day-2026-5k/
LOCATION:Parque Ecológico de Xochimilco\, Ciudad de México\, Parque Ecológico de Xochimilco\, Ciudad de México\, Ciudad de México\, Mexico
CATEGORIES:Calle
ATTACH;FMTTYPE=image/jpeg:https://soloatletas.com/wp-content/uploads/1762975505944_300X300woman.jpg
ORGANIZER;CN="WomansDay":MAILTO:Mariel@allmkting.com
END:VEVENT
BEGIN:VEVENT
DTSTART;TZID=America/Mexico_City:20260308T063000
DTEND;TZID=America/Mexico_City:20260308T063000
DTSTAMP:20260422T075818
CREATED:20251229T203039Z
LAST-MODIFIED:20251229T203049Z
UID:10001630-1772951400-1772951400@soloatletas.com
SUMMARY:17va Carrera CEULVER 3km / 5km / 10km. 3K
DESCRIPTION:
URL:https://soloatletas.com/evento-deportivo/17va-carrera-ceulver-3km-5km-10km-3k/
LOCATION:Veracrúz\, Veracrúz\, Veracrúz\, Veracrúz\, Mexico
CATEGORIES:Calle
ATTACH;FMTTYPE=image/jpeg:https://soloatletas.com/wp-content/uploads/1766777964338_LOGO-300X300-1.jpg
ORGANIZER;CN="Ecomotion":MAILTO:contacto@ecomotionmex.com
END:VEVENT
BEGIN:VEVENT
DTSTART;TZID=America/Mexico_City:20260308T063000
DTEND;TZID=America/Mexico_City:20260308T063000
DTSTAMP:20260422T075818
CREATED:20251229T202921Z
LAST-MODIFIED:20251229T202931Z
UID:10001629-1772951400-1772951400@soloatletas.com
SUMMARY:17va Carrera CEULVER 3km / 5km / 10km. 5K
DESCRIPTION:
URL:https://soloatletas.com/evento-deportivo/17va-carrera-ceulver-3km-5km-10km-5k/
LOCATION:Veracrúz\, Veracrúz\, Veracrúz\, Veracrúz\, Mexico
CATEGORIES:Calle
ATTACH;FMTTYPE=image/jpeg:https://soloatletas.com/wp-content/uploads/1766777964338_LOGO-300X300-1.jpg
ORGANIZER;CN="Ecomotion":MAILTO:contacto@ecomotionmex.com
END:VEVENT
END:VCALENDAR