BEGIN:VCALENDAR
VERSION:2.0
PRODID:-//Solo Atletas - ECPv6.15.16//NONSGML v1.0//EN
CALSCALE:GREGORIAN
METHOD:PUBLISH
X-ORIGINAL-URL:https://soloatletas.com
X-WR-CALDESC:Eventos para Solo Atletas
REFRESH-INTERVAL;VALUE=DURATION:PT1H
X-Robots-Tag:noindex
X-PUBLISHED-TTL:PT1H
BEGIN:VTIMEZONE
TZID:America/Mexico_City
BEGIN:STANDARD
TZOFFSETFROM:-0600
TZOFFSETTO:-0600
TZNAME:CST
DTSTART:20250101T000000
END:STANDARD
END:VTIMEZONE
BEGIN:VEVENT
DTSTART;TZID=America/Mexico_City:20260523T170000
DTEND;TZID=America/Mexico_City:20260523T170000
DTSTAMP:20260422T060951
CREATED:20251230T141439Z
LAST-MODIFIED:20251230T141508Z
UID:10001683-1779555600-1779555600@soloatletas.com
SUMMARY:Viva Villa Medio Maratón Parral 2026 10K
DESCRIPTION:
URL:https://soloatletas.com/evento-deportivo/viva-villa-medio-maraton-parral-2026-10k/
LOCATION:Chihuahua\, México\, Chihuahua\, México\, Chihuahua\, Mexico
CATEGORIES:Calle
ATTACH;FMTTYPE=image/jpeg:https://soloatletas.com/wp-content/uploads/1761260512385_Logo-300x300-VIVA.jpg
ORGANIZER;CN="Viva Villa":MAILTO:alfonso.marquez4@icloud.com
END:VEVENT
BEGIN:VEVENT
DTSTART;TZID=America/Mexico_City:20260523T170000
DTEND;TZID=America/Mexico_City:20260523T170000
DTSTAMP:20260422T060951
CREATED:20251230T141628Z
LAST-MODIFIED:20251230T141640Z
UID:10001684-1779555600-1779555600@soloatletas.com
SUMMARY:Viva Villa Medio Maratón Parral 2026 5K
DESCRIPTION:
URL:https://soloatletas.com/evento-deportivo/viva-villa-medio-maraton-parral-2026-5k/
LOCATION:Chihuahua\, México\, Chihuahua\, México\, Chihuahua\, Mexico
CATEGORIES:Calle
ATTACH;FMTTYPE=image/jpeg:https://soloatletas.com/wp-content/uploads/1761260512385_Logo-300x300-VIVA.jpg
ORGANIZER;CN="Viva Villa":MAILTO:alfonso.marquez4@icloud.com
END:VEVENT
BEGIN:VEVENT
DTSTART;TZID=America/Mexico_City:20260524T063000
DTEND;TZID=America/Mexico_City:20260524T063000
DTSTAMP:20260422T060951
CREATED:20260401T184805Z
LAST-MODIFIED:20260401T185444Z
UID:10001954-1779604200-1779604200@soloatletas.com
SUMMARY:Desafío Ensenada\, Baja California by La Vuelta 2026 92K
DESCRIPTION:
URL:https://soloatletas.com/evento-deportivo/desafio-ensenada-baja-california-by-la-vuelta-2026-92k/
LOCATION:Baja California Sur\, Baja California Sur\, Baja California Sur\, Mexico
CATEGORIES:Ciclismo
ATTACH;FMTTYPE=image/jpeg:https://soloatletas.com/wp-content/uploads/1772747316842_Desafio-Ensenada-26-logo-b.jpg
END:VEVENT
BEGIN:VEVENT
DTSTART;TZID=America/Mexico_City:20260524T063000
DTEND;TZID=America/Mexico_City:20260524T063000
DTSTAMP:20260422T060951
CREATED:20260401T185728Z
LAST-MODIFIED:20260401T185741Z
UID:10001955-1779604200-1779604200@soloatletas.com
SUMMARY:C. Estaciones Primavera Peñafiel CDMX 2026 10K
DESCRIPTION:
URL:https://soloatletas.com/evento-deportivo/c-estaciones-primavera-penafiel-cdmx-2026-10k/
LOCATION:Ciudad de México\, CDMX\, Centro\, Ciudad de México\, CDMX\, Mexico
CATEGORIES:Calle
ATTACH;FMTTYPE=image/jpeg:https://soloatletas.com/wp-content/uploads/1768860847062_Primavera-MX-26-Twist-logo.jpg
END:VEVENT
BEGIN:VEVENT
DTSTART;TZID=America/Mexico_City:20260524T063000
DTEND;TZID=America/Mexico_City:20260524T063000
DTSTAMP:20260422T060951
CREATED:20260401T190225Z
LAST-MODIFIED:20260401T190318Z
UID:10001956-1779604200-1779604200@soloatletas.com
SUMMARY:C. Estaciones Primavera Peñafiel CDMX 2026 5K
DESCRIPTION:
URL:https://soloatletas.com/evento-deportivo/c-estaciones-primavera-penafiel-cdmx-2026-5k/
LOCATION:Ciudad de México\, CDMX\, Centro\, Ciudad de México\, CDMX\, Mexico
CATEGORIES:Calle
ATTACH;FMTTYPE=image/jpeg:https://soloatletas.com/wp-content/uploads/1768860847062_Primavera-MX-26-Twist-logo.jpg
END:VEVENT
BEGIN:VEVENT
DTSTART;TZID=America/Mexico_City:20260524T070000
DTEND;TZID=America/Mexico_City:20260524T070000
DTSTAMP:20260422T060951
CREATED:20260122T023351Z
LAST-MODIFIED:20260122T023421Z
UID:10001771-1779606000-1779606000@soloatletas.com
SUMMARY:CARRERA AZUL ARENA 2026 10K
DESCRIPTION:
URL:https://soloatletas.com/evento-deportivo/carrera-azul-arena-2026-10k/
LOCATION:San pedro\, NL\, San Pedro\, San Pedro\, Nuevo León\, Mexico
CATEGORIES:Calle
ATTACH;FMTTYPE=image/png:https://soloatletas.com/wp-content/uploads/IMG_0215.png
END:VEVENT
BEGIN:VEVENT
DTSTART;TZID=America/Mexico_City:20260524T070000
DTEND;TZID=America/Mexico_City:20260524T070000
DTSTAMP:20260422T060951
CREATED:20260122T023535Z
LAST-MODIFIED:20260122T023554Z
UID:10001772-1779606000-1779606000@soloatletas.com
SUMMARY:CARRERA AZUL ARENA 2026 5K
DESCRIPTION:
URL:https://soloatletas.com/evento-deportivo/carrera-azul-arena-2026-5k/
LOCATION:San pedro\, NL\, San Pedro\, San Pedro\, Nuevo León\, Mexico
CATEGORIES:Calle
ATTACH;FMTTYPE=image/png:https://soloatletas.com/wp-content/uploads/IMG_0215.png
END:VEVENT
BEGIN:VEVENT
DTSTART;TZID=America/Mexico_City:20260524T070000
DTEND;TZID=America/Mexico_City:20260524T070000
DTSTAMP:20260422T060951
CREATED:20260122T023743Z
LAST-MODIFIED:20260122T023754Z
UID:10001773-1779606000-1779606000@soloatletas.com
SUMMARY:CARRERA AZUL ARENA 2026 1K
DESCRIPTION:
URL:https://soloatletas.com/evento-deportivo/carrera-azul-arena-2026-1k/
LOCATION:San pedro\, NL\, San Pedro\, San Pedro\, Nuevo León\, Mexico
CATEGORIES:Calle
ATTACH;FMTTYPE=image/png:https://soloatletas.com/wp-content/uploads/IMG_0215.png
END:VEVENT
BEGIN:VEVENT
DTSTART;TZID=America/Mexico_City:20260524T070000
DTEND;TZID=America/Mexico_City:20260524T070000
DTSTAMP:20260422T060951
CREATED:20260122T024116Z
LAST-MODIFIED:20260122T024128Z
UID:10001774-1779606000-1779606000@soloatletas.com
SUMMARY:EGADE RUN 4 THE FUTURE GUADALAJARA 10K
DESCRIPTION:
URL:https://soloatletas.com/evento-deportivo/egade-run-4-the-future-guadalajara-10k/
LOCATION:Guadalajara\, Jalisco\, Centro\, Guadalajara\, Jalisco\, Mexico
CATEGORIES:Calle
ATTACH;FMTTYPE=image/png:https://soloatletas.com/wp-content/uploads/IMG_0216.png
END:VEVENT
BEGIN:VEVENT
DTSTART;TZID=America/Mexico_City:20260524T070000
DTEND;TZID=America/Mexico_City:20260524T070000
DTSTAMP:20260422T060951
CREATED:20260122T024250Z
LAST-MODIFIED:20260122T024515Z
UID:10001775-1779606000-1779606000@soloatletas.com
SUMMARY:EGADE RUN 4 THE FUTURE GUADALAJARA 5K
DESCRIPTION:
URL:https://soloatletas.com/evento-deportivo/egade-run-4-the-future-guadalajara-5k/
LOCATION:Guadalajara\, Jalisco\, Centro\, Guadalajara\, Jalisco\, Mexico
CATEGORIES:Calle
ATTACH;FMTTYPE=image/png:https://soloatletas.com/wp-content/uploads/IMG_0216.png
END:VEVENT
BEGIN:VEVENT
DTSTART;TZID=America/Mexico_City:20260524T070000
DTEND;TZID=America/Mexico_City:20260524T070000
DTSTAMP:20260422T060951
CREATED:20260122T024616Z
LAST-MODIFIED:20260122T024626Z
UID:10001776-1779606000-1779606000@soloatletas.com
SUMMARY:EGADE RUN 4 THE FUTURE GUADALAJARA 1K
DESCRIPTION:
URL:https://soloatletas.com/evento-deportivo/egade-run-4-the-future-guadalajara-1k/
LOCATION:Guadalajara\, Jalisco\, Centro\, Guadalajara\, Jalisco\, Mexico
CATEGORIES:Calle
ATTACH;FMTTYPE=image/png:https://soloatletas.com/wp-content/uploads/IMG_0216.png
END:VEVENT
BEGIN:VEVENT
DTSTART;TZID=America/Mexico_City:20260531T050000
DTEND;TZID=America/Mexico_City:20260531T050000
DTSTAMP:20260422T060951
CREATED:20260226T185036Z
LAST-MODIFIED:20260226T185036Z
UID:10001836-1780203600-1780203600@soloatletas.com
SUMMARY:TLACOTEPEC\, TLALPUJAHUA /TRAIL 2026 19K
DESCRIPTION:
URL:https://soloatletas.com/evento-deportivo/tlacotepec-tlalpujahua-trail-2026-19k/
LOCATION:Morelia\, Michoacán\, Morelia\, Morelia\, Michoacán\, Mexico
CATEGORIES:Trail
ATTACH;FMTTYPE=image/jpeg:https://soloatletas.com/wp-content/uploads/TLACO-scaled.jpg
ORGANIZER;CN="Trail Run Adventure MX":MAILTO:trailrunadventure@gmail.com
END:VEVENT
BEGIN:VEVENT
DTSTART;TZID=America/Mexico_City:20260531T050000
DTEND;TZID=America/Mexico_City:20260531T050000
DTSTAMP:20260422T060951
CREATED:20260226T185210Z
LAST-MODIFIED:20260226T185236Z
UID:10001837-1780203600-1780203600@soloatletas.com
SUMMARY:TLACOTEPEC\, TLALPUJAHUA /TRAIL 2026 13K
DESCRIPTION:
URL:https://soloatletas.com/evento-deportivo/tlacotepec-tlalpujahua-trail-2026-13k/
LOCATION:Morelia\, Michoacán\, Morelia\, Morelia\, Michoacán\, Mexico
CATEGORIES:Trail
ATTACH;FMTTYPE=image/jpeg:https://soloatletas.com/wp-content/uploads/TLACO-scaled.jpg
ORGANIZER;CN="Trail Run Adventure MX":MAILTO:trailrunadventure@gmail.com
END:VEVENT
BEGIN:VEVENT
DTSTART;TZID=America/Mexico_City:20260531T050000
DTEND;TZID=America/Mexico_City:20260531T050000
DTSTAMP:20260422T060951
CREATED:20260226T185334Z
LAST-MODIFIED:20260226T185351Z
UID:10001838-1780203600-1780203600@soloatletas.com
SUMMARY:TLACOTEPEC\, TLALPUJAHUA /TRAIL 2026 7K
DESCRIPTION:
URL:https://soloatletas.com/evento-deportivo/tlacotepec-tlalpujahua-trail-2026-7k/
LOCATION:Morelia\, Michoacán\, Morelia\, Morelia\, Michoacán\, Mexico
CATEGORIES:Trail
ATTACH;FMTTYPE=image/jpeg:https://soloatletas.com/wp-content/uploads/TLACO-scaled.jpg
ORGANIZER;CN="Trail Run Adventure MX":MAILTO:trailrunadventure@gmail.com
END:VEVENT
BEGIN:VEVENT
DTSTART;TZID=America/Mexico_City:20260531T070000
DTEND;TZID=America/Mexico_City:20260531T070000
DTSTAMP:20260422T060951
CREATED:20260122T025106Z
LAST-MODIFIED:20260122T025121Z
UID:10001777-1780210800-1780210800@soloatletas.com
SUMMARY:PASA RUN 10K
DESCRIPTION:
URL:https://soloatletas.com/evento-deportivo/pasa-run-10k/
LOCATION:Monterrey\, Nuevo León\, Monterrey\, Nuevo León\, Mexico
CATEGORIES:Calle
ATTACH;FMTTYPE=image/png:https://soloatletas.com/wp-content/uploads/IMG_0217.png
END:VEVENT
BEGIN:VEVENT
DTSTART;TZID=America/Mexico_City:20260531T070000
DTEND;TZID=America/Mexico_City:20260531T070000
DTSTAMP:20260422T060951
CREATED:20260122T025258Z
LAST-MODIFIED:20260122T025307Z
UID:10001778-1780210800-1780210800@soloatletas.com
SUMMARY:PASA RUN 5K
DESCRIPTION:
URL:https://soloatletas.com/evento-deportivo/pasa-run-5k/
LOCATION:Monterrey\, Nuevo León\, Monterrey\, Nuevo León\, Mexico
CATEGORIES:Calle
ATTACH;FMTTYPE=image/png:https://soloatletas.com/wp-content/uploads/IMG_0217.png
END:VEVENT
BEGIN:VEVENT
DTSTART;TZID=America/Mexico_City:20260531T070000
DTEND;TZID=America/Mexico_City:20260531T070000
DTSTAMP:20260422T060951
CREATED:20260122T025412Z
LAST-MODIFIED:20260122T025435Z
UID:10001779-1780210800-1780210800@soloatletas.com
SUMMARY:PASA RUN 1.5K
DESCRIPTION:
URL:https://soloatletas.com/evento-deportivo/pasa-run-1-5k/
LOCATION:Monterrey\, Nuevo León\, Monterrey\, Nuevo León\, Mexico
CATEGORIES:Calle
ATTACH;FMTTYPE=image/png:https://soloatletas.com/wp-content/uploads/IMG_0217.png
END:VEVENT
BEGIN:VEVENT
DTSTART;TZID=America/Mexico_City:20260531T080000
DTEND;TZID=America/Mexico_City:20260531T080000
DTSTAMP:20260422T060951
CREATED:20251231T012948Z
LAST-MODIFIED:20251231T012957Z
UID:10001691-1780214400-1780214400@soloatletas.com
SUMMARY:Serial Nacional Downhill 2026\, Tapalpa
DESCRIPTION:
URL:https://soloatletas.com/evento-deportivo/serial-nacional-downhill-2026-tapalpa/
LOCATION:Mazati Bike Park\, Jalisco\, Mazati Bike Park\, Tapalpa\, Jalisco\, Mexico
CATEGORIES:Ciclismo
ATTACH;FMTTYPE=image/jpeg:https://soloatletas.com/wp-content/uploads/images-5.jpg
END:VEVENT
BEGIN:VEVENT
DTSTART;TZID=America/Mexico_City:20260531T080000
DTEND;TZID=America/Mexico_City:20260531T080000
DTSTAMP:20260422T060951
CREATED:20260317T192238Z
LAST-MODIFIED:20260317T192302Z
UID:10001911-1780214400-1780214400@soloatletas.com
SUMMARY:Portales Trail Run 2026 25K
DESCRIPTION:
URL:https://soloatletas.com/evento-deportivo/portales-trail-run-2026-25k/
LOCATION:Ciudad de México\, CDMX\, Centro\, Ciudad de México\, CDMX\, Mexico
CATEGORIES:Trail
ATTACH;FMTTYPE=image/jpeg:https://soloatletas.com/wp-content/uploads/428654750_940466011415670_1442485614268522136_n.jpg
END:VEVENT
BEGIN:VEVENT
DTSTART;TZID=America/Mexico_City:20260531T080000
DTEND;TZID=America/Mexico_City:20260531T080000
DTSTAMP:20260422T060951
CREATED:20260320T222630Z
LAST-MODIFIED:20260320T223650Z
UID:10001912-1780214400-1780214400@soloatletas.com
SUMMARY:Portales Trail Run 2026 12K
DESCRIPTION:
URL:https://soloatletas.com/evento-deportivo/portales-trail-run-2026-12k/
LOCATION:Ciudad de México\, CDMX\, Centro\, Ciudad de México\, CDMX\, Mexico
CATEGORIES:Trail
ATTACH;FMTTYPE=image/jpeg:https://soloatletas.com/wp-content/uploads/428654750_940466011415670_1442485614268522136_n.jpg
END:VEVENT
BEGIN:VEVENT
DTSTART;TZID=America/Mexico_City:20260531T080000
DTEND;TZID=America/Mexico_City:20260531T080000
DTSTAMP:20260422T060951
CREATED:20260320T223815Z
LAST-MODIFIED:20260320T223850Z
UID:10001913-1780214400-1780214400@soloatletas.com
SUMMARY:Portales Trail Run 2026 SENDERISMO 15K
DESCRIPTION:
URL:https://soloatletas.com/evento-deportivo/portales-trail-run-2026-senderismo-15k/
LOCATION:Ciudad de México\, CDMX\, Centro\, Ciudad de México\, CDMX\, Mexico
CATEGORIES:Trail
ATTACH;FMTTYPE=image/jpeg:https://soloatletas.com/wp-content/uploads/428654750_940466011415670_1442485614268522136_n.jpg
END:VEVENT
BEGIN:VEVENT
DTSTART;TZID=America/Mexico_City:20260531T080000
DTEND;TZID=America/Mexico_City:20260531T080000
DTSTAMP:20260422T060951
CREATED:20260320T223937Z
LAST-MODIFIED:20260320T224922Z
UID:10001914-1780214400-1780214400@soloatletas.com
SUMMARY:Portales Trail Run 2026 SENDERISMO 12K
DESCRIPTION:
URL:https://soloatletas.com/evento-deportivo/portales-trail-run-2026-senderismo-12k/
LOCATION:Ciudad de México\, CDMX\, Centro\, Ciudad de México\, CDMX\, Mexico
CATEGORIES:Trail
ATTACH;FMTTYPE=image/jpeg:https://soloatletas.com/wp-content/uploads/428654750_940466011415670_1442485614268522136_n.jpg
END:VEVENT
BEGIN:VEVENT
DTSTART;TZID=America/Mexico_City:20260607T063000
DTEND;TZID=America/Mexico_City:20260607T063000
DTSTAMP:20260422T060951
CREATED:20251230T142003Z
LAST-MODIFIED:20251230T142049Z
UID:10001685-1780813800-1780813800@soloatletas.com
SUMMARY:1era edición YMCArrera 2026 10K
DESCRIPTION:
URL:https://soloatletas.com/evento-deportivo/1era-edicion-ymcarrera-2026-10k/
LOCATION:Ciudad de México\, CDMX\, Centro\, Ciudad de México\, CDMX\, Mexico
CATEGORIES:Calle
ATTACH;FMTTYPE=image/jpeg:https://soloatletas.com/wp-content/uploads/1763147974366_YMCA-26-logo-300.jpg
END:VEVENT
BEGIN:VEVENT
DTSTART;TZID=America/Mexico_City:20260607T063000
DTEND;TZID=America/Mexico_City:20260607T063000
DTSTAMP:20260422T060951
CREATED:20251230T142120Z
LAST-MODIFIED:20251230T142156Z
UID:10001686-1780813800-1780813800@soloatletas.com
SUMMARY:1era edición YMCArrera 2026 5K
DESCRIPTION:
URL:https://soloatletas.com/evento-deportivo/1era-edicion-ymcarrera-2026-5k/
LOCATION:Ciudad de México\, CDMX\, Centro\, Ciudad de México\, CDMX\, Mexico
CATEGORIES:Calle
ATTACH;FMTTYPE=image/jpeg:https://soloatletas.com/wp-content/uploads/1763147974366_YMCA-26-logo-300.jpg
END:VEVENT
BEGIN:VEVENT
DTSTART;TZID=America/Mexico_City:20260607T063000
DTEND;TZID=America/Mexico_City:20260607T063000
DTSTAMP:20260422T060951
CREATED:20251230T142242Z
LAST-MODIFIED:20251230T142306Z
UID:10001687-1780813800-1780813800@soloatletas.com
SUMMARY:1era edición YMCArrera 2026 3K
DESCRIPTION:
URL:https://soloatletas.com/evento-deportivo/1era-edicion-ymcarrera-2026-3k/
LOCATION:Ciudad de México\, CDMX\, Centro\, Ciudad de México\, CDMX\, Mexico
CATEGORIES:Calle
ATTACH;FMTTYPE=image/jpeg:https://soloatletas.com/wp-content/uploads/1763147974366_YMCA-26-logo-300.jpg
END:VEVENT
BEGIN:VEVENT
DTSTART;TZID=America/Mexico_City:20260607T070000
DTEND;TZID=America/Mexico_City:20260607T070000
DTSTAMP:20260422T060951
CREATED:20260104T003123Z
LAST-MODIFIED:20260104T003131Z
UID:10001729-1780815600-1780815600@soloatletas.com
SUMMARY:Serial Regiomontano de Ciclismo 2026 – Huracanes XCO\, Enduro
DESCRIPTION:
URL:https://soloatletas.com/evento-deportivo/serial-regiomontano-de-ciclismo-2026-huracanes-xco-enduro/
LOCATION:Garcia\, NL\, Garcia\, Garcia\, Nuevo León\, Mexico
CATEGORIES:Ciclismo
ATTACH;FMTTYPE=image/png:https://soloatletas.com/wp-content/uploads/MTB-LOGO_negro_grande-02-2048x1016-1.png
END:VEVENT
BEGIN:VEVENT
DTSTART;TZID=America/Mexico_City:20260613T063000
DTEND;TZID=America/Mexico_City:20260613T063000
DTSTAMP:20260422T060951
CREATED:20251220T202929Z
LAST-MODIFIED:20251220T202957Z
UID:10001532-1781332200-1781332200@soloatletas.com
SUMMARY:Copa Mundial de Triatlón Huatulco 2026 Triatlón Sprint
DESCRIPTION:
URL:https://soloatletas.com/evento-deportivo/copa-mundial-de-triatlon-huatulco-2026-triatlon-sprint/
LOCATION:Oaxaca\, Huatulco\, Huatulco\, Oaxaca\, Mexico
CATEGORIES:Triatlón
ATTACH;FMTTYPE=image/jpeg:https://soloatletas.com/wp-content/uploads/IMG_0048.jpeg
END:VEVENT
BEGIN:VEVENT
DTSTART;TZID=America/Mexico_City:20260613T063000
DTEND;TZID=America/Mexico_City:20260613T063000
DTSTAMP:20260422T060951
CREATED:20251220T203106Z
LAST-MODIFIED:20251220T203126Z
UID:10001533-1781332200-1781332200@soloatletas.com
SUMMARY:Copa Mundial de Triatlón Huatulco 2026 Triatlón Olímpico
DESCRIPTION:
URL:https://soloatletas.com/evento-deportivo/copa-mundial-de-triatlon-huatulco-2026-triatlon-olimpico/
LOCATION:Oaxaca\, Huatulco\, Huatulco\, Oaxaca\, Mexico
CATEGORIES:Triatlón
ATTACH;FMTTYPE=image/jpeg:https://soloatletas.com/wp-content/uploads/IMG_0048.jpeg
END:VEVENT
BEGIN:VEVENT
DTSTART;TZID=America/Mexico_City:20260613T063000
DTEND;TZID=America/Mexico_City:20260613T063000
DTSTAMP:20260422T060951
CREATED:20251220T203250Z
LAST-MODIFIED:20251220T203301Z
UID:10001534-1781332200-1781332200@soloatletas.com
SUMMARY:Copa Mundial de Triatlón Huatulco 2026 Súper Sprint
DESCRIPTION:
URL:https://soloatletas.com/evento-deportivo/copa-mundial-de-triatlon-huatulco-2026-super-sprint/
LOCATION:Oaxaca\, Huatulco\, Huatulco\, Oaxaca\, Mexico
CATEGORIES:Triatlón
ATTACH;FMTTYPE=image/jpeg:https://soloatletas.com/wp-content/uploads/IMG_0048.jpeg
END:VEVENT
BEGIN:VEVENT
DTSTART;TZID=America/Mexico_City:20260613T063000
DTEND;TZID=America/Mexico_City:20260613T063000
DTSTAMP:20260422T060952
CREATED:20251220T203450Z
LAST-MODIFIED:20251220T203502Z
UID:10001535-1781332200-1781332200@soloatletas.com
SUMMARY:Copa Mundial de Triatlón Huatulco 2026 WomanUp
DESCRIPTION:
URL:https://soloatletas.com/evento-deportivo/copa-mundial-de-triatlon-huatulco-2026-womanup/
LOCATION:Oaxaca\, Huatulco\, Huatulco\, Oaxaca\, Mexico
CATEGORIES:Triatlón
ATTACH;FMTTYPE=image/jpeg:https://soloatletas.com/wp-content/uploads/IMG_0048.jpeg
END:VEVENT
END:VCALENDAR