BEGIN:VCALENDAR
VERSION:2.0
PRODID:-//Solo Atletas - ECPv6.15.16//NONSGML v1.0//EN
CALSCALE:GREGORIAN
METHOD:PUBLISH
X-ORIGINAL-URL:https://soloatletas.com
X-WR-CALDESC:Eventos para Solo Atletas
REFRESH-INTERVAL;VALUE=DURATION:PT1H
X-Robots-Tag:noindex
X-PUBLISHED-TTL:PT1H
BEGIN:VTIMEZONE
TZID:America/Mexico_City
BEGIN:STANDARD
TZOFFSETFROM:-0600
TZOFFSETTO:-0600
TZNAME:CST
DTSTART:20250101T000000
END:STANDARD
END:VTIMEZONE
BEGIN:VEVENT
DTSTART;TZID=America/Mexico_City:20260302T060000
DTEND;TZID=America/Mexico_City:20260302T060000
DTSTAMP:20260424T060036
CREATED:20260302T205350Z
LAST-MODIFIED:20260302T210924Z
UID:10001867-1772431200-1772431200@soloatletas.com
SUMMARY:URBANA TRAIL HISTÓRICA HUICHAPAN 2026 5K
DESCRIPTION:
URL:https://soloatletas.com/evento-deportivo/urbana-trail-historica-huichapan-2026-5k/
LOCATION:Hidalgo\, NL\, Hidalgo\, Nuevo León\, 65600\, Mexico
CATEGORIES:Calle
ATTACH;FMTTYPE=image/jpeg:https://soloatletas.com/wp-content/uploads/HUICHA.jpg
ORGANIZER;CN="Trail Run Adventure MX":MAILTO:trailrunadventure@gmail.com
END:VEVENT
BEGIN:VEVENT
DTSTART;TZID=America/Mexico_City:20260302T060000
DTEND;TZID=America/Mexico_City:20260302T060000
DTSTAMP:20260424T060036
CREATED:20260302T204604Z
LAST-MODIFIED:20260302T204604Z
UID:10001866-1772431200-1772431200@soloatletas.com
SUMMARY:URBANA TRAIL HISTÓRICA HUICHAPAN 2026 10K
DESCRIPTION:
URL:https://soloatletas.com/evento-deportivo/urbana-trail-historica-huichapan-2026-10k/
LOCATION:Hidalgo\, NL\, Hidalgo\, Nuevo León\, 65600\, Mexico
CATEGORIES:Calle
ATTACH;FMTTYPE=image/jpeg:https://soloatletas.com/wp-content/uploads/HUICHA.jpg
ORGANIZER;CN="Trail Run Adventure MX":MAILTO:trailrunadventure@gmail.com
END:VEVENT
BEGIN:VEVENT
DTSTART;TZID=America/Mexico_City:20260301T080000
DTEND;TZID=America/Mexico_City:20260301T080000
DTSTAMP:20260424T060036
CREATED:20260104T022908Z
LAST-MODIFIED:20260104T022908Z
UID:10001737-1772352000-1772352000@soloatletas.com
SUMMARY:L'Étape La Paz 40K
DESCRIPTION:
URL:https://soloatletas.com/evento-deportivo/letape-la-paz-40k/
LOCATION:La Paz\, Baja California Sur\, La Paz\, La Paz\, Baja California Sur\, Mexico
CATEGORIES:Ciclismo
ATTACH;FMTTYPE=image/png:https://soloatletas.com/wp-content/uploads/52a81849de9fd11f0cc09aa7101840a6ef7a0088.png
END:VEVENT
BEGIN:VEVENT
DTSTART;TZID=America/Mexico_City:20260301T080000
DTEND;TZID=America/Mexico_City:20260301T080000
DTSTAMP:20260424T060036
CREATED:20260104T022805Z
LAST-MODIFIED:20260104T022805Z
UID:10001736-1772352000-1772352000@soloatletas.com
SUMMARY:L'Étape La Paz 73K
DESCRIPTION:
URL:https://soloatletas.com/evento-deportivo/letape-la-paz-73k/
LOCATION:La Paz\, Baja California Sur\, La Paz\, La Paz\, Baja California Sur\, Mexico
CATEGORIES:Ciclismo
ATTACH;FMTTYPE=image/png:https://soloatletas.com/wp-content/uploads/52a81849de9fd11f0cc09aa7101840a6ef7a0088.png
END:VEVENT
BEGIN:VEVENT
DTSTART;TZID=America/Mexico_City:20260301T080000
DTEND;TZID=America/Mexico_City:20260301T080000
DTSTAMP:20260424T060036
CREATED:20260104T022649Z
LAST-MODIFIED:20260104T022658Z
UID:10001735-1772352000-1772352000@soloatletas.com
SUMMARY:L'Étape La Paz 126K
DESCRIPTION:
URL:https://soloatletas.com/evento-deportivo/letape-la-paz-126k/
LOCATION:La Paz\, Baja California Sur\, La Paz\, La Paz\, Baja California Sur\, Mexico
CATEGORIES:Ciclismo
ATTACH;FMTTYPE=image/png:https://soloatletas.com/wp-content/uploads/52a81849de9fd11f0cc09aa7101840a6ef7a0088.png
END:VEVENT
BEGIN:VEVENT
DTSTART;TZID=America/Mexico_City:20260301T063000
DTEND;TZID=America/Mexico_City:20260301T063000
DTSTAMP:20260424T060036
CREATED:20251219T185922Z
LAST-MODIFIED:20251219T185935Z
UID:10001514-1772346600-1772346600@soloatletas.com
SUMMARY:IRONMAN 70.3 Monterrey 2026
DESCRIPTION:
URL:https://soloatletas.com/evento-deportivo/ironman-70-3-monterrey-2026/
LOCATION:Monterrey\, Nuevo León\, Monterrey\, Nuevo León\, Mexico
CATEGORIES:Triatlón
ATTACH;FMTTYPE=image/jpeg:https://soloatletas.com/wp-content/uploads/IMG_0040.jpeg
END:VEVENT
BEGIN:VEVENT
DTSTART;TZID=America/Mexico_City:20260228T080000
DTEND;TZID=America/Mexico_City:20260228T080000
DTSTAMP:20260424T060036
CREATED:20250920T173147Z
LAST-MODIFIED:20250920T173147Z
UID:10001400-1772265600-1772265600@soloatletas.com
SUMMARY:Okachi Trail 10K
DESCRIPTION:
URL:https://soloatletas.com/evento-deportivo/okachi-trail-10k/
LOCATION:Taxco\, Guerrero\, Taxco\, Taxco\, Guerrero\, Mexico
CATEGORIES:Trail
ATTACH;FMTTYPE=image/jpeg:https://soloatletas.com/wp-content/uploads/1.jpg
END:VEVENT
BEGIN:VEVENT
DTSTART;TZID=America/Mexico_City:20260228T080000
DTEND;TZID=America/Mexico_City:20260228T080000
DTSTAMP:20260424T060036
CREATED:20250920T173007Z
LAST-MODIFIED:20250920T173029Z
UID:10001399-1772265600-1772265600@soloatletas.com
SUMMARY:Okachi Trail 21K
DESCRIPTION:
URL:https://soloatletas.com/evento-deportivo/okachi-trail-21k/
LOCATION:Taxco\, Guerrero\, Taxco\, Taxco\, Guerrero\, Mexico
CATEGORIES:Trail
ATTACH;FMTTYPE=image/jpeg:https://soloatletas.com/wp-content/uploads/1.jpg
END:VEVENT
BEGIN:VEVENT
DTSTART;TZID=America/Mexico_City:20260228T080000
DTEND;TZID=America/Mexico_City:20260228T080000
DTSTAMP:20260424T060036
CREATED:20250920T172623Z
LAST-MODIFIED:20250920T172641Z
UID:10001397-1772265600-1772265600@soloatletas.com
SUMMARY:Okachi Trail 35K
DESCRIPTION:
URL:https://soloatletas.com/evento-deportivo/okachi-trail-35k/
LOCATION:Taxco\, Guerrero\, Taxco\, Taxco\, Guerrero\, Mexico
CATEGORIES:Trail
ATTACH;FMTTYPE=image/jpeg:https://soloatletas.com/wp-content/uploads/1.jpg
END:VEVENT
BEGIN:VEVENT
DTSTART;TZID=America/Mexico_City:20260228T070000
DTEND;TZID=America/Mexico_City:20260228T070000
DTSTAMP:20260424T060036
CREATED:20251229T202144Z
LAST-MODIFIED:20251229T202220Z
UID:10001627-1772262000-1772262000@soloatletas.com
SUMMARY:Carrera Pirata Fuente 5 km y 10 km. 5K
DESCRIPTION:
URL:https://soloatletas.com/evento-deportivo/carrera-pirata-fuente-5-km-y-10-km-5k/
LOCATION:Boca del Río\, Veracrúz\, Centro\, Boca del Río\, Veracrúz\, Mexico
CATEGORIES:Calle
ATTACH;FMTTYPE=image/jpeg:https://soloatletas.com/wp-content/uploads/1766772858269_LOGO-300X300.jpg
ORGANIZER;CN="Ecomotion":MAILTO:contacto@ecomotionmex.com
END:VEVENT
BEGIN:VEVENT
DTSTART;TZID=America/Mexico_City:20260228T070000
DTEND;TZID=America/Mexico_City:20260228T070000
DTSTAMP:20260424T060036
CREATED:20251229T201810Z
LAST-MODIFIED:20251229T201844Z
UID:10001626-1772262000-1772262000@soloatletas.com
SUMMARY:Carrera Pirata Fuente 5 km y 10 km. 10K
DESCRIPTION:
URL:https://soloatletas.com/evento-deportivo/carrera-pirata-fuente-5-km-y-10-km-10k/
LOCATION:Boca del Río\, Veracrúz\, Centro\, Boca del Río\, Veracrúz\, Mexico
CATEGORIES:Calle
ATTACH;FMTTYPE=image/jpeg:https://soloatletas.com/wp-content/uploads/1766772858269_LOGO-300X300.jpg
ORGANIZER;CN="Ecomotion":MAILTO:contacto@ecomotionmex.com
END:VEVENT
BEGIN:VEVENT
DTSTART;TZID=America/Mexico_City:20260222T083000
DTEND;TZID=America/Mexico_City:20260222T083000
DTSTAMP:20260424T060036
CREATED:20260117T194828Z
LAST-MODIFIED:20260117T194844Z
UID:10001759-1771749000-1771749000@soloatletas.com
SUMMARY:Trote 5k XVI Aniversario San Juan Bosco 5K
DESCRIPTION:
URL:https://soloatletas.com/evento-deportivo/trote-5k-xvi-aniversario-san-juan-bosco-5k/
LOCATION:Monterrey\, Nuevo León\, Monterrey\, Nuevo León\, Mexico
CATEGORIES:Calle
ATTACH;FMTTYPE=image/png:https://soloatletas.com/wp-content/uploads/5ba06cc7-ccfb-4765-a8de-2ca78d565a1d_logocarreras50.png
END:VEVENT
BEGIN:VEVENT
DTSTART;TZID=America/Mexico_City:20260222T070000
DTEND;TZID=America/Mexico_City:20260222T070000
DTSTAMP:20260424T060036
CREATED:20260104T001136Z
LAST-MODIFIED:20260104T001146Z
UID:10001725-1771743600-1771743600@soloatletas.com
SUMMARY:Serial Regiomontano de Ciclismo 2026 – Apodaca XCM-Gravel
DESCRIPTION:
URL:https://soloatletas.com/evento-deportivo/serial-regiomontano-de-ciclismo-2026-apodaca-xcm-gravel/
LOCATION:Apodaca\, Nuevo León\, Apodaca\, Apodaca\, Nuevo León\, Mexico
CATEGORIES:Ciclismo
ATTACH;FMTTYPE=image/png:https://soloatletas.com/wp-content/uploads/MTB-LOGO_negro_grande-02-2048x1016-1.png
END:VEVENT
BEGIN:VEVENT
DTSTART;TZID=America/Mexico_City:20260222T070000
DTEND;TZID=America/Mexico_City:20260222T070000
DTSTAMP:20260424T060036
CREATED:20251229T195839Z
LAST-MODIFIED:20251229T200256Z
UID:10001625-1771743600-1771743600@soloatletas.com
SUMMARY:21K Tarahumara - The Home Depot 2026 5K
DESCRIPTION:
URL:https://soloatletas.com/evento-deportivo/21k-tarahumara-the-home-depot-2026-5k/
LOCATION:Parque Fundidora\, Monterrey NL\, Parque Fundidora\, Monterrey\, Nuevo León\, Mexico
CATEGORIES:Calle
ATTACH;FMTTYPE=image/jpeg:https://soloatletas.com/wp-content/uploads/1762976224316_Logo-evnetotau.jpg
ORGANIZER;CN="The Home Deapot":MAILTO:oficina.mty@tarahumara.org
END:VEVENT
BEGIN:VEVENT
DTSTART;TZID=America/Mexico_City:20260222T070000
DTEND;TZID=America/Mexico_City:20260222T070000
DTSTAMP:20260424T060036
CREATED:20251229T194733Z
LAST-MODIFIED:20251229T195251Z
UID:10001624-1771743600-1771743600@soloatletas.com
SUMMARY:21K Tarahumara - The Home Depot 2026 21K
DESCRIPTION:
URL:https://soloatletas.com/evento-deportivo/21k-tarahumara-the-home-depot-2026-21k/
LOCATION:Parque Fundidora\, Monterrey NL\, Parque Fundidora\, Monterrey\, Nuevo León\, Mexico
CATEGORIES:Calle
ATTACH;FMTTYPE=image/jpeg:https://soloatletas.com/wp-content/uploads/1762976224316_Logo-evnetotau.jpg
ORGANIZER;CN="The Home Deapot":MAILTO:oficina.mty@tarahumara.org
END:VEVENT
BEGIN:VEVENT
DTSTART;TZID=America/Mexico_City:20260222T063000
DTEND;TZID=America/Mexico_City:20260222T063000
DTSTAMP:20260424T060036
CREATED:20251230T024105Z
LAST-MODIFIED:20251230T024113Z
UID:10001670-1771741800-1771741800@soloatletas.com
SUMMARY:XL Medio Maratón Internacional Guadalajara 21K
DESCRIPTION:
URL:https://soloatletas.com/evento-deportivo/xl-medio-maraton-internacional-guadalajara-21k/
LOCATION:Guadalajara\, Jalisco\, Centro\, Guadalajara\, Jalisco\, Mexico
CATEGORIES:Calle
ATTACH;FMTTYPE=image/png:https://soloatletas.com/wp-content/uploads/descarga-1-1.png
END:VEVENT
BEGIN:VEVENT
DTSTART;TZID=America/Mexico_City:20260221T083000
DTEND;TZID=America/Mexico_City:20260221T083000
DTSTAMP:20260424T060036
CREATED:20251230T004528Z
LAST-MODIFIED:20251230T004635Z
UID:10001656-1771662600-1771662600@soloatletas.com
SUMMARY:Desafío En Las Nubes 2026 Micro DEN 15K
DESCRIPTION:
URL:https://soloatletas.com/evento-deportivo/desafio-en-las-nubes-2026-micro-den-15k/
LOCATION:Xicotepec\, Puebla\, Xicotepec\, Puebla\, Mexico
CATEGORIES:Trail
ATTACH;FMTTYPE=image/png:https://soloatletas.com/wp-content/uploads/DEN-LOGO.png
END:VEVENT
BEGIN:VEVENT
DTSTART;TZID=America/Mexico_City:20260221T063000
DTEND;TZID=America/Mexico_City:20260221T063000
DTSTAMP:20260424T060037
CREATED:20251230T004305Z
LAST-MODIFIED:20251230T004305Z
UID:10001655-1771655400-1771655400@soloatletas.com
SUMMARY:Desafío En Las Nubes 2026 Mini DEN 25K
DESCRIPTION:
URL:https://soloatletas.com/evento-deportivo/desafio-en-las-nubes-2026-mini-den-25k/
LOCATION:Xicotepec\, Puebla\, Xicotepec\, Puebla\, Mexico
CATEGORIES:Trail
ATTACH;FMTTYPE=image/png:https://soloatletas.com/wp-content/uploads/DEN-LOGO.png
END:VEVENT
BEGIN:VEVENT
DTSTART;TZID=America/Mexico_City:20260221T063000
DTEND;TZID=America/Mexico_City:20260221T063000
DTSTAMP:20260424T060037
CREATED:20251230T004050Z
LAST-MODIFIED:20251230T004116Z
UID:10001654-1771655400-1771655400@soloatletas.com
SUMMARY:Desafío En Las Nubes 2026 Medio DEN 40K
DESCRIPTION:
URL:https://soloatletas.com/evento-deportivo/desafio-en-las-nubes-2026-ultra-den-40k/
LOCATION:Xicotepec\, Puebla\, Xicotepec\, Puebla\, Mexico
CATEGORIES:Trail
ATTACH;FMTTYPE=image/png:https://soloatletas.com/wp-content/uploads/DEN-LOGO.png
END:VEVENT
BEGIN:VEVENT
DTSTART;TZID=America/Mexico_City:20260221T060000
DTEND;TZID=America/Mexico_City:20260221T060000
DTSTAMP:20260424T060037
CREATED:20251230T003234Z
LAST-MODIFIED:20251230T003319Z
UID:10001653-1771653600-1771653600@soloatletas.com
SUMMARY:Desafío En Las Nubes 2026 Ultra DEN 50K
DESCRIPTION:
URL:https://soloatletas.com/evento-deportivo/desafio-las-nubes-2026-ultra-den-50k/
LOCATION:Xicotepec\, Puebla\, Xicotepec\, Puebla\, Mexico
CATEGORIES:Trail
ATTACH;FMTTYPE=image/png:https://soloatletas.com/wp-content/uploads/DEN-LOGO.png
END:VEVENT
BEGIN:VEVENT
DTSTART;TZID=America/Mexico_City:20260221T060000
DTEND;TZID=America/Mexico_City:20260221T060000
DTSTAMP:20260424T060037
CREATED:20251219T184619Z
LAST-MODIFIED:20251219T184630Z
UID:10001512-1771653600-1771653600@soloatletas.com
SUMMARY:Triatlón Manzanillo 2026 Duatlón Sprint
DESCRIPTION:
URL:https://soloatletas.com/evento-deportivo/triatlon-manzanillo-2026-duatlon-sprint/
LOCATION:Manzanillo\, Colima\, Manzanillo\, Colima\, Manzanillo\, Colima\, Mexico
CATEGORIES:Triatlón
ATTACH;FMTTYPE=image/jpeg:https://soloatletas.com/wp-content/uploads/IMG_0039.jpeg
END:VEVENT
BEGIN:VEVENT
DTSTART;TZID=America/Mexico_City:20260221T060000
DTEND;TZID=America/Mexico_City:20260221T060000
DTSTAMP:20260424T060037
CREATED:20251219T184245Z
LAST-MODIFIED:20251219T184256Z
UID:10001511-1771653600-1771653600@soloatletas.com
SUMMARY:Triatlón Manzanillo 2026 Olímpico
DESCRIPTION:
URL:https://soloatletas.com/evento-deportivo/triatlon-manzanillo-2026-olimpico/
LOCATION:Manzanillo\, Colima\, Manzanillo\, Colima\, Manzanillo\, Colima\, Mexico
CATEGORIES:Triatlón
ATTACH;FMTTYPE=image/jpeg:https://soloatletas.com/wp-content/uploads/IMG_0039.jpeg
END:VEVENT
BEGIN:VEVENT
DTSTART;TZID=America/Mexico_City:20260221T060000
DTEND;TZID=America/Mexico_City:20260221T060000
DTSTAMP:20260424T060037
CREATED:20251219T184052Z
LAST-MODIFIED:20251219T184103Z
UID:10001510-1771653600-1771653600@soloatletas.com
SUMMARY:Triatlón Manzanillo 2026 Sprint
DESCRIPTION:
URL:https://soloatletas.com/evento-deportivo/triatlon-manzanillo-2026-sprint/
LOCATION:Manzanillo\, Colima\, Manzanillo\, Colima\, Manzanillo\, Colima\, Mexico
CATEGORIES:Triatlón
ATTACH;FMTTYPE=image/jpeg:https://soloatletas.com/wp-content/uploads/IMG_0039.jpeg
END:VEVENT
BEGIN:VEVENT
DTSTART;TZID=America/Mexico_City:20260221T060000
DTEND;TZID=America/Mexico_City:20260221T060000
DTSTAMP:20260424T060037
CREATED:20251219T181744Z
LAST-MODIFIED:20251219T181757Z
UID:10001509-1771653600-1771653600@soloatletas.com
SUMMARY:Triatlón Manzanillo 2026 Junior
DESCRIPTION:
URL:https://soloatletas.com/evento-deportivo/triatlon-manzanillo-2026-junior/
LOCATION:Manzanillo\, Colima\, Manzanillo\, Colima\, Manzanillo\, Colima\, Mexico
CATEGORIES:Triatlón
ATTACH;FMTTYPE=image/jpeg:https://soloatletas.com/wp-content/uploads/IMG_0039.jpeg
END:VEVENT
BEGIN:VEVENT
DTSTART;TZID=America/Mexico_City:20260215T073000
DTEND;TZID=America/Mexico_City:20260215T073000
DTSTAMP:20260424T060037
CREATED:20260117T194305Z
LAST-MODIFIED:20260117T194321Z
UID:10001758-1771140600-1771140600@soloatletas.com
SUMMARY:EGADE Run 4 The Future Monterrey 2K
DESCRIPTION:
URL:https://soloatletas.com/evento-deportivo/egade-run-4-the-future-monterrey-2k/
LOCATION:San pedro\, NL\, San Pedro\, San Pedro\, Nuevo León\, Mexico
CATEGORIES:Calle
ATTACH;FMTTYPE=image/png:https://soloatletas.com/wp-content/uploads/1c3b47ef-d1d2-4d97-93f1-c7f2f862aea2_1.png
END:VEVENT
BEGIN:VEVENT
DTSTART;TZID=America/Mexico_City:20260215T073000
DTEND;TZID=America/Mexico_City:20260215T073000
DTSTAMP:20260424T060037
CREATED:20260117T194141Z
LAST-MODIFIED:20260117T194153Z
UID:10001757-1771140600-1771140600@soloatletas.com
SUMMARY:EGADE Run 4 The Future Monterrey 5K
DESCRIPTION:
URL:https://soloatletas.com/evento-deportivo/egade-run-4-the-future-monterrey-5k/
LOCATION:San pedro\, NL\, San Pedro\, San Pedro\, Nuevo León\, Mexico
CATEGORIES:Calle
ATTACH;FMTTYPE=image/png:https://soloatletas.com/wp-content/uploads/1c3b47ef-d1d2-4d97-93f1-c7f2f862aea2_1.png
END:VEVENT
BEGIN:VEVENT
DTSTART;TZID=America/Mexico_City:20260215T073000
DTEND;TZID=America/Mexico_City:20260215T073000
DTSTAMP:20260424T060037
CREATED:20260117T193958Z
LAST-MODIFIED:20260117T194010Z
UID:10001756-1771140600-1771140600@soloatletas.com
SUMMARY:EGADE Run 4 The Future Monterrey 10K
DESCRIPTION:
URL:https://soloatletas.com/evento-deportivo/egade-run-4-the-future-monterrey-10k/
LOCATION:San pedro\, NL\, San Pedro\, San Pedro\, Nuevo León\, Mexico
CATEGORIES:Calle
ATTACH;FMTTYPE=image/png:https://soloatletas.com/wp-content/uploads/1c3b47ef-d1d2-4d97-93f1-c7f2f862aea2_1.png
END:VEVENT
BEGIN:VEVENT
DTSTART;TZID=America/Mexico_City:20260215T070000
DTEND;TZID=America/Mexico_City:20260215T070000
DTSTAMP:20260424T060037
CREATED:20251229T194221Z
LAST-MODIFIED:20251229T194221Z
UID:10001623-1771138800-1771138800@soloatletas.com
SUMMARY:I Love Run 2026 5K
DESCRIPTION:
URL:https://soloatletas.com/evento-deportivo/i-love-run-2026-5k/
LOCATION:Paseo de la Reforma\, CDMX\, Paseo de la Reforma\, Paseo de la Reforma\, CDMX\, Mexico
CATEGORIES:Calle
ATTACH;FMTTYPE=image/jpeg:https://soloatletas.com/wp-content/uploads/1762469546042_300x300pxlogo-love.jpg
END:VEVENT
BEGIN:VEVENT
DTSTART;TZID=America/Mexico_City:20260215T070000
DTEND;TZID=America/Mexico_City:20260215T070000
DTSTAMP:20260424T060037
CREATED:20251229T193709Z
LAST-MODIFIED:20251229T193709Z
UID:10001622-1771138800-1771138800@soloatletas.com
SUMMARY:I Love Run 2026 10K
DESCRIPTION:
URL:https://soloatletas.com/evento-deportivo/i-love-run-2026-10k/
LOCATION:Paseo de la Reforma\, CDMX\, Paseo de la Reforma\, Paseo de la Reforma\, CDMX\, Mexico
CATEGORIES:Calle
ATTACH;FMTTYPE=image/jpeg:https://soloatletas.com/wp-content/uploads/1762469546042_300x300pxlogo-love.jpg
END:VEVENT
BEGIN:VEVENT
DTSTART;TZID=America/Mexico_City:20260215T070000
DTEND;TZID=America/Mexico_City:20260215T070000
DTSTAMP:20260424T060037
CREATED:20251228T153414Z
LAST-MODIFIED:20251228T153414Z
UID:10001568-1771138800-1771138800@soloatletas.com
SUMMARY:3a Carrera Fundación Cáncer Warriors de México por el Día Mundial contra el Cáncer 2026 CDMX! 3K
DESCRIPTION:
URL:https://soloatletas.com/evento-deportivo/3a-carrera-fundacion-cancer-warriors-de-mexico-por-el-dia-mundial-contra-el-cancer-2026-cdmx-3k/
LOCATION:Paseo de la Reforma\, CDMX\, Paseo de la Reforma\, Paseo de la Reforma\, CDMX\, Mexico
CATEGORIES:Calle
ATTACH;FMTTYPE=image/jpeg:https://soloatletas.com/wp-content/uploads/IMG_0095.jpeg
ORGANIZER;CN="Cronometraje2extra":MAILTO:mailto:tslequipo@gmail.com
END:VEVENT
END:VCALENDAR