BEGIN:VCALENDAR
VERSION:2.0
PRODID:-//Solo Atletas - ECPv6.15.16//NONSGML v1.0//EN
CALSCALE:GREGORIAN
METHOD:PUBLISH
X-WR-CALNAME:Solo Atletas
X-ORIGINAL-URL:https://soloatletas.com
X-WR-CALDESC:Eventos para Solo Atletas
REFRESH-INTERVAL;VALUE=DURATION:PT1H
X-Robots-Tag:noindex
X-PUBLISHED-TTL:PT1H
BEGIN:VTIMEZONE
TZID:America/Mexico_City
BEGIN:STANDARD
TZOFFSETFROM:-0600
TZOFFSETTO:-0600
TZNAME:CST
DTSTART:20250101T000000
END:STANDARD
END:VTIMEZONE
BEGIN:VEVENT
DTSTART;TZID=America/Mexico_City:20260725T040000
DTEND;TZID=America/Mexico_City:20260725T040000
DTSTAMP:20260424T123300
CREATED:20251230T021932Z
LAST-MODIFIED:20251230T021940Z
UID:10001661-1784952000-1784952000@soloatletas.com
SUMMARY:Ultra Coah XI 160K
DESCRIPTION:
URL:https://soloatletas.com/evento-deportivo/ultra-coah-xi-160k/
LOCATION:Arteaga\, Coahuila\, Arteaga\, Coahuila\, Mexico
CATEGORIES:Trail
ATTACH;FMTTYPE=image/jpeg:https://soloatletas.com/wp-content/uploads/1764814909641_Logo-ULTRA-2026-300X300.jpg
END:VEVENT
BEGIN:VEVENT
DTSTART;TZID=America/Mexico_City:20260725T040000
DTEND;TZID=America/Mexico_City:20260725T040000
DTSTAMP:20260424T123300
CREATED:20251230T022113Z
LAST-MODIFIED:20251230T022113Z
UID:10001662-1784952000-1784952000@soloatletas.com
SUMMARY:Ultra Coah XI 100K
DESCRIPTION:
URL:https://soloatletas.com/evento-deportivo/ultra-coah-xi-100k/
LOCATION:Arteaga\, Coahuila\, Arteaga\, Coahuila\, Mexico
CATEGORIES:Trail
ATTACH;FMTTYPE=image/jpeg:https://soloatletas.com/wp-content/uploads/1764814909641_Logo-ULTRA-2026-300X300.jpg
END:VEVENT
BEGIN:VEVENT
DTSTART;TZID=America/Mexico_City:20260725T040000
DTEND;TZID=America/Mexico_City:20260725T040000
DTSTAMP:20260424T123300
CREATED:20251230T022229Z
LAST-MODIFIED:20251230T022229Z
UID:10001663-1784952000-1784952000@soloatletas.com
SUMMARY:Ultra Coah XI 80K
DESCRIPTION:
URL:https://soloatletas.com/evento-deportivo/ultra-coah-xi-80k/
LOCATION:Arteaga\, Coahuila\, Arteaga\, Coahuila\, Mexico
CATEGORIES:Trail
ATTACH;FMTTYPE=image/jpeg:https://soloatletas.com/wp-content/uploads/1764814909641_Logo-ULTRA-2026-300X300.jpg
END:VEVENT
BEGIN:VEVENT
DTSTART;TZID=America/Mexico_City:20260725T040000
DTEND;TZID=America/Mexico_City:20260725T040000
DTSTAMP:20260424T123300
CREATED:20251230T022405Z
LAST-MODIFIED:20251230T022405Z
UID:10001664-1784952000-1784952000@soloatletas.com
SUMMARY:Ultra Coah XI 50K
DESCRIPTION:
URL:https://soloatletas.com/evento-deportivo/ultra-coah-xi-50k/
LOCATION:Arteaga\, Coahuila\, Arteaga\, Coahuila\, Mexico
CATEGORIES:Trail
ATTACH;FMTTYPE=image/jpeg:https://soloatletas.com/wp-content/uploads/1764814909641_Logo-ULTRA-2026-300X300.jpg
END:VEVENT
BEGIN:VEVENT
DTSTART;TZID=America/Mexico_City:20260725T110000
DTEND;TZID=America/Mexico_City:20260725T110000
DTSTAMP:20260424T123300
CREATED:20251228T193437Z
LAST-MODIFIED:20251228T193517Z
UID:10001579-1784977200-1784977200@soloatletas.com
SUMMARY:3kids Ciudad de México 2026 Infantil
DESCRIPTION:
URL:https://soloatletas.com/evento-deportivo/3kids-ciudad-de-mexico-2026-infantil/
LOCATION:Cuidad de México\, CDMX\, Centro\, Cuidad de México\, CDMX\, Mexico
CATEGORIES:Triatlón
ATTACH;FMTTYPE=image/jpeg:https://soloatletas.com/wp-content/uploads/IMG_0099.jpeg
END:VEVENT
BEGIN:VEVENT
DTSTART;TZID=America/Mexico_City:20260725T130000
DTEND;TZID=America/Mexico_City:20260725T130000
DTSTAMP:20260424T123300
CREATED:20251228T194833Z
LAST-MODIFIED:20251228T194845Z
UID:10001580-1784984400-1784984400@soloatletas.com
SUMMARY:Triatlón Ciudad de México 2026 Sprint
DESCRIPTION:
URL:https://soloatletas.com/evento-deportivo/triatlon-ciudad-de-mexico-2026-sprint/
LOCATION:Ciudad de México\, CDMX\, Centro\, Ciudad de México\, CDMX\, Mexico
CATEGORIES:Triatlón
ATTACH;FMTTYPE=image/jpeg:https://soloatletas.com/wp-content/uploads/IMG_0100.jpeg
END:VEVENT
BEGIN:VEVENT
DTSTART;TZID=America/Mexico_City:20260725T130000
DTEND;TZID=America/Mexico_City:20260725T130000
DTSTAMP:20260424T123300
CREATED:20251228T195038Z
LAST-MODIFIED:20251228T195142Z
UID:10001581-1784984400-1784984400@soloatletas.com
SUMMARY:Triatlón Ciudad de México 2026 Junior 14-15 años
DESCRIPTION:
URL:https://soloatletas.com/evento-deportivo/triatlon-ciudad-de-mexico-2026-junior-14-15-anos/
LOCATION:Ciudad de México\, CDMX\, Centro\, Ciudad de México\, CDMX\, Mexico
CATEGORIES:Triatlón
ATTACH;FMTTYPE=image/jpeg:https://soloatletas.com/wp-content/uploads/IMG_0100.jpeg
END:VEVENT
BEGIN:VEVENT
DTSTART;TZID=America/Mexico_City:20260725T130000
DTEND;TZID=America/Mexico_City:20260725T130000
DTSTAMP:20260424T123300
CREATED:20251228T195711Z
LAST-MODIFIED:20251228T195723Z
UID:10001582-1784984400-1784984400@soloatletas.com
SUMMARY:Triatlón Ciudad de México 2026 Súper Sprint
DESCRIPTION:
URL:https://soloatletas.com/evento-deportivo/triatlon-ciudad-de-mexico-2026-super-sprint/
LOCATION:Ciudad de México\, CDMX\, Centro\, Ciudad de México\, CDMX\, Mexico
CATEGORIES:Triatlón
ATTACH;FMTTYPE=image/jpeg:https://soloatletas.com/wp-content/uploads/IMG_0100.jpeg
END:VEVENT
BEGIN:VEVENT
DTSTART;TZID=America/Mexico_City:20260725T130000
DTEND;TZID=America/Mexico_City:20260725T130000
DTSTAMP:20260424T123300
CREATED:20251228T200109Z
LAST-MODIFIED:20251228T200145Z
UID:10001583-1784984400-1784984400@soloatletas.com
SUMMARY:Triatlón Ciudad de México 2026 WomanUp
DESCRIPTION:
URL:https://soloatletas.com/evento-deportivo/triatlon-ciudad-de-mexico-2026-womanup/
LOCATION:Ciudad de México\, CDMX\, Centro\, Ciudad de México\, CDMX\, Mexico
CATEGORIES:Triatlón
ATTACH;FMTTYPE=image/jpeg:https://soloatletas.com/wp-content/uploads/IMG_0100.jpeg
END:VEVENT
BEGIN:VEVENT
DTSTART;TZID=America/Mexico_City:20260725T130000
DTEND;TZID=America/Mexico_City:20260725T130000
DTSTAMP:20260424T123300
CREATED:20251228T200350Z
LAST-MODIFIED:20251228T200557Z
UID:10001584-1784984400-1784984400@soloatletas.com
SUMMARY:Triatlón Ciudad de México 2026 Triatlón por EQUIPOS
DESCRIPTION:
URL:https://soloatletas.com/evento-deportivo/triatlon-ciudad-de-mexico-2026-triatlon-infantil-3kids/
LOCATION:Ciudad de México\, CDMX\, Centro\, Ciudad de México\, CDMX\, Mexico
CATEGORIES:Triatlón
ATTACH;FMTTYPE=image/jpeg:https://soloatletas.com/wp-content/uploads/IMG_0100.jpeg
END:VEVENT
BEGIN:VEVENT
DTSTART;TZID=America/Mexico_City:20260726T063000
DTEND;TZID=America/Mexico_City:20260726T063000
DTSTAMP:20260424T123300
CREATED:20260219T004903Z
LAST-MODIFIED:20260219T005004Z
UID:10001818-1785047400-1785047400@soloatletas.com
SUMMARY:BACKROAD 2da EDICION 2026- GRAVEL RACE 110 KM
DESCRIPTION:
URL:https://soloatletas.com/evento-deportivo/backroad-2da-edicion-2026-gravel-race-110-km/
LOCATION:Guanajuato\, Guanajuato\, Guanajuato\, Guanajuato\, Mexico
CATEGORIES:Ciclismo
ATTACH;FMTTYPE=image/jpeg:https://soloatletas.com/wp-content/uploads/cd3a6918-71ef-4d70-af46-550039cd1d50.jpeg
END:VEVENT
BEGIN:VEVENT
DTSTART;TZID=America/Mexico_City:20260726T063000
DTEND;TZID=America/Mexico_City:20260726T063000
DTSTAMP:20260424T123300
CREATED:20260219T005200Z
LAST-MODIFIED:20260219T005211Z
UID:10001819-1785047400-1785047400@soloatletas.com
SUMMARY:BACKROAD 2da EDICION 2026- GRAVEL RACE 60KM
DESCRIPTION:
URL:https://soloatletas.com/evento-deportivo/backroad-2da-edicion-2026-gravel-race-60km/
LOCATION:Guanajuato\, Guanajuato\, Guanajuato\, Guanajuato\, Mexico
CATEGORIES:Ciclismo
ATTACH;FMTTYPE=image/jpeg:https://soloatletas.com/wp-content/uploads/cd3a6918-71ef-4d70-af46-550039cd1d50.jpeg
END:VEVENT
BEGIN:VEVENT
DTSTART;TZID=America/Mexico_City:20260726T070000
DTEND;TZID=America/Mexico_City:20260726T070000
DTSTAMP:20260424T123300
CREATED:20251230T022545Z
LAST-MODIFIED:20251230T022558Z
UID:10001665-1785049200-1785049200@soloatletas.com
SUMMARY:Ultra Coah XI 30K
DESCRIPTION:
URL:https://soloatletas.com/evento-deportivo/ultra-coah-xi-30k/
LOCATION:Arteaga\, Coahuila\, Arteaga\, Coahuila\, Mexico
CATEGORIES:Trail
ATTACH;FMTTYPE=image/jpeg:https://soloatletas.com/wp-content/uploads/1764814909641_Logo-ULTRA-2026-300X300.jpg
END:VEVENT
BEGIN:VEVENT
DTSTART;TZID=America/Mexico_City:20260726T070000
DTEND;TZID=America/Mexico_City:20260726T070000
DTSTAMP:20260424T123300
CREATED:20251230T022739Z
LAST-MODIFIED:20251230T022739Z
UID:10001666-1785049200-1785049200@soloatletas.com
SUMMARY:Ultra Coah XI 12K
DESCRIPTION:
URL:https://soloatletas.com/evento-deportivo/ultra-coah-xi-12k/
LOCATION:Arteaga\, Coahuila\, Arteaga\, Coahuila\, Mexico
CATEGORIES:Trail
ATTACH;FMTTYPE=image/jpeg:https://soloatletas.com/wp-content/uploads/1764814909641_Logo-ULTRA-2026-300X300.jpg
END:VEVENT
BEGIN:VEVENT
DTSTART;TZID=America/Mexico_City:20260816T050000
DTEND;TZID=America/Mexico_City:20260816T050000
DTSTAMP:20260424T123300
CREATED:20260226T201128Z
LAST-MODIFIED:20260226T201238Z
UID:10001843-1786856400-1786856400@soloatletas.com
SUMMARY:TRAIL RUN XICHU GTO. 27K
DESCRIPTION:
URL:https://soloatletas.com/evento-deportivo/trail-run-xichu-gto-27k/
LOCATION:Guanajuato\, Guanajuato\, Guanajuato\, Guanajuato\, Mexico
CATEGORIES:Trail
ATTACH;FMTTYPE=image/jpeg:https://soloatletas.com/wp-content/uploads/XICHU-26.jpg
ORGANIZER;CN="Trail Run Adventure MX":MAILTO:trailrunadventure@gmail.com
END:VEVENT
BEGIN:VEVENT
DTSTART;TZID=America/Mexico_City:20260816T050000
DTEND;TZID=America/Mexico_City:20260816T050000
DTSTAMP:20260424T123300
CREATED:20260226T201342Z
LAST-MODIFIED:20260226T201352Z
UID:10001844-1786856400-1786856400@soloatletas.com
SUMMARY:TRAIL RUN XICHU GTO. 19K
DESCRIPTION:
URL:https://soloatletas.com/evento-deportivo/trail-run-xichu-gto-19k/
LOCATION:Guanajuato\, Guanajuato\, Guanajuato\, Guanajuato\, Mexico
CATEGORIES:Trail
ATTACH;FMTTYPE=image/jpeg:https://soloatletas.com/wp-content/uploads/XICHU-26.jpg
ORGANIZER;CN="Trail Run Adventure MX":MAILTO:trailrunadventure@gmail.com
END:VEVENT
BEGIN:VEVENT
DTSTART;TZID=America/Mexico_City:20260816T050000
DTEND;TZID=America/Mexico_City:20260816T050000
DTSTAMP:20260424T123300
CREATED:20260226T201454Z
LAST-MODIFIED:20260226T202004Z
UID:10001845-1786856400-1786856400@soloatletas.com
SUMMARY:TRAIL RUN XICHU GTO. 15K
DESCRIPTION:
URL:https://soloatletas.com/evento-deportivo/trail-run-xichu-gto-15k/
LOCATION:Guanajuato\, Guanajuato\, Guanajuato\, Guanajuato\, Mexico
CATEGORIES:Trail
ATTACH;FMTTYPE=image/jpeg:https://soloatletas.com/wp-content/uploads/XICHU-26.jpg
ORGANIZER;CN="Trail Run Adventure MX":MAILTO:trailrunadventure@gmail.com
END:VEVENT
BEGIN:VEVENT
DTSTART;TZID=America/Mexico_City:20260816T050000
DTEND;TZID=America/Mexico_City:20260816T050000
DTSTAMP:20260424T123300
CREATED:20260226T202057Z
LAST-MODIFIED:20260226T202106Z
UID:10001846-1786856400-1786856400@soloatletas.com
SUMMARY:TRAIL RUN XICHU GTO. 8K
DESCRIPTION:
URL:https://soloatletas.com/evento-deportivo/trail-run-xichu-gto-8k/
LOCATION:Guanajuato\, Guanajuato\, Guanajuato\, Guanajuato\, Mexico
CATEGORIES:Trail
ATTACH;FMTTYPE=image/jpeg:https://soloatletas.com/wp-content/uploads/XICHU-26.jpg
ORGANIZER;CN="Trail Run Adventure MX":MAILTO:trailrunadventure@gmail.com
END:VEVENT
BEGIN:VEVENT
DTSTART;TZID=America/Mexico_City:20260822T060000
DTEND;TZID=America/Mexico_City:20260822T060000
DTSTAMP:20260424T123300
CREATED:20251228T222104Z
LAST-MODIFIED:20251228T223825Z
UID:10001585-1787378400-1787378400@soloatletas.com
SUMMARY:Triatlón Veracruz-Boca del Río 2026 Junior 14-15 años
DESCRIPTION:
URL:https://soloatletas.com/evento-deportivo/triatlon-veracruz-boca-del-rio-2026-junior-14-15-anos/
LOCATION:Boca del Río\, Veracrúz\, Centro\, Boca del Río\, Veracrúz\, Mexico
CATEGORIES:Triatlón
ATTACH;FMTTYPE=image/jpeg:https://soloatletas.com/wp-content/uploads/IMG_0101.jpeg
END:VEVENT
BEGIN:VEVENT
DTSTART;TZID=America/Mexico_City:20260822T060000
DTEND;TZID=America/Mexico_City:20260822T060000
DTSTAMP:20260424T123300
CREATED:20251228T222251Z
LAST-MODIFIED:20251228T223738Z
UID:10001586-1787378400-1787378400@soloatletas.com
SUMMARY:Triatlón Veracruz-Boca del Río 2026 Súper Sprint
DESCRIPTION:
URL:https://soloatletas.com/evento-deportivo/triatlon-veracruz-boca-del-rio-2026-super-sprint/
LOCATION:Boca del Río\, Veracrúz\, Centro\, Boca del Río\, Veracrúz\, Mexico
CATEGORIES:Triatlón
ATTACH;FMTTYPE=image/jpeg:https://soloatletas.com/wp-content/uploads/IMG_0101.jpeg
END:VEVENT
BEGIN:VEVENT
DTSTART;TZID=America/Mexico_City:20260822T060000
DTEND;TZID=America/Mexico_City:20260822T060000
DTSTAMP:20260424T123300
CREATED:20251228T222402Z
LAST-MODIFIED:20251228T223704Z
UID:10001587-1787378400-1787378400@soloatletas.com
SUMMARY:Triatlón Veracruz-Boca del Río 2026 WomanUp
DESCRIPTION:
URL:https://soloatletas.com/evento-deportivo/triatlon-veracruz-boca-del-rio-2026-womanup/
LOCATION:Boca del Río\, Veracrúz\, Centro\, Boca del Río\, Veracrúz\, Mexico
CATEGORIES:Triatlón
ATTACH;FMTTYPE=image/jpeg:https://soloatletas.com/wp-content/uploads/IMG_0101.jpeg
END:VEVENT
BEGIN:VEVENT
DTSTART;TZID=America/Mexico_City:20260822T060000
DTEND;TZID=America/Mexico_City:20260822T060000
DTSTAMP:20260424T123300
CREATED:20251228T222541Z
LAST-MODIFIED:20251228T223627Z
UID:10001588-1787378400-1787378400@soloatletas.com
SUMMARY:Triatlón Veracruz-Boca del Río 2026 Triatlón Sprint
DESCRIPTION:
URL:https://soloatletas.com/evento-deportivo/triatlon-veracruz-boca-del-rio-2026-triatlon-sprint/
LOCATION:Boca del Río\, Veracrúz\, Centro\, Boca del Río\, Veracrúz\, Mexico
CATEGORIES:Triatlón
ATTACH;FMTTYPE=image/jpeg:https://soloatletas.com/wp-content/uploads/IMG_0101.jpeg
END:VEVENT
BEGIN:VEVENT
DTSTART;TZID=America/Mexico_City:20260822T060000
DTEND;TZID=America/Mexico_City:20260822T060000
DTSTAMP:20260424T123300
CREATED:20251228T222725Z
LAST-MODIFIED:20251228T223537Z
UID:10001589-1787378400-1787378400@soloatletas.com
SUMMARY:Triatlón Veracruz-Boca del Río 2026 Duatlón Sprint
DESCRIPTION:
URL:https://soloatletas.com/evento-deportivo/triatlon-veracruz-boca-del-rio-2026-triatlon-olimpico/
LOCATION:Boca del Río\, Veracrúz\, Centro\, Boca del Río\, Veracrúz\, Mexico
CATEGORIES:Triatlón
ATTACH;FMTTYPE=image/jpeg:https://soloatletas.com/wp-content/uploads/IMG_0101.jpeg
END:VEVENT
BEGIN:VEVENT
DTSTART;TZID=America/Mexico_City:20260822T080000
DTEND;TZID=America/Mexico_City:20260822T080000
DTSTAMP:20260424T123300
CREATED:20251231T013522Z
LAST-MODIFIED:20251231T013530Z
UID:10001693-1787385600-1787385600@soloatletas.com
SUMMARY:Serial Nacional Downhill 2026\, Querétaro
DESCRIPTION:
URL:https://soloatletas.com/evento-deportivo/serial-nacional-downhill-2026-queretaro/
LOCATION:Presa Zimapán\, Querétaro\, Presa Zimapán\, Querétaro\, Querétaro\, Mexico
CATEGORIES:Ciclismo
ATTACH;FMTTYPE=image/jpeg:https://soloatletas.com/wp-content/uploads/images-5.jpg
END:VEVENT
BEGIN:VEVENT
DTSTART;TZID=America/Mexico_City:20260823T070000
DTEND;TZID=America/Mexico_City:20260823T070000
DTSTAMP:20260424T123300
CREATED:20251229T171229Z
LAST-MODIFIED:20251229T171241Z
UID:10001603-1787468400-1787468400@soloatletas.com
SUMMARY:3Kids Veracruz 2026 Infantil
DESCRIPTION:
URL:https://soloatletas.com/evento-deportivo/3kids-veracruz-2026-infantil/
LOCATION:Boca del Río\, Veracrúz\, Centro\, Boca del Río\, Veracrúz\, Mexico
CATEGORIES:Triatlón
ATTACH;FMTTYPE=image/jpeg:https://soloatletas.com/wp-content/uploads/IMG_0105.jpeg
END:VEVENT
BEGIN:VEVENT
DTSTART;TZID=America/Mexico_City:20260830T070000
DTEND;TZID=America/Mexico_City:20260830T070000
DTSTAMP:20260424T123300
CREATED:20260104T020800Z
LAST-MODIFIED:20260104T020816Z
UID:10001731-1788073200-1788073200@soloatletas.com
SUMMARY:Serial Regiomontano de Ciclismo 2026 – Allende XCM\, Gravel
DESCRIPTION:
URL:https://soloatletas.com/evento-deportivo/serial-regiomontano-de-ciclismo-2026-allende-xcm-gravel/
LOCATION:Allende\, NL\, Allende\, Allende\, Nuevo León\, Mexico
CATEGORIES:Ciclismo
ATTACH;FMTTYPE=image/png:https://soloatletas.com/wp-content/uploads/MTB-LOGO_negro_grande-02-2048x1016-1.png
END:VEVENT
BEGIN:VEVENT
DTSTART;TZID=America/Mexico_City:20260913T070000
DTEND;TZID=America/Mexico_City:20260913T070000
DTSTAMP:20260424T123300
CREATED:20260104T021030Z
LAST-MODIFIED:20260104T021038Z
UID:10001732-1789282800-1789282800@soloatletas.com
SUMMARY:Serial Regiomontano de Ciclismo 2026 – Santiago Ruta
DESCRIPTION:
URL:https://soloatletas.com/evento-deportivo/serial-regiomontano-de-ciclismo-2026-santiago-ruta/
LOCATION:Allende\, NL\, Allende\, Allende\, Nuevo León\, Mexico
CATEGORIES:Ciclismo
ATTACH;FMTTYPE=image/png:https://soloatletas.com/wp-content/uploads/MTB-LOGO_negro_grande-02-2048x1016-1.png
END:VEVENT
BEGIN:VEVENT
DTSTART;TZID=America/Mexico_City:20260920T000000
DTEND;TZID=America/Mexico_City:20260920T000000
DTSTAMP:20260424T123300
CREATED:20260422T000702Z
LAST-MODIFIED:20260422T001002Z
UID:10001957-1789862400-1789862400@soloatletas.com
SUMMARY:IRONMAN 70.3 Cozumel 2026 HSBC
DESCRIPTION:
URL:https://soloatletas.com/evento-deportivo/ironman-70-3-cozumel-2026-hsbc/
LOCATION:Cozumel\, Quintana Roo\, Cozumel\, Quintana Roo\, Mexico
CATEGORIES:Triatlón
ATTACH;FMTTYPE=image/jpeg:https://soloatletas.com/wp-content/uploads/1771424984958_1771382188982_IM7-Cozumel-26-logo-negro.jpg
END:VEVENT
BEGIN:VEVENT
DTSTART;TZID=America/Mexico_City:20260920T050000
DTEND;TZID=America/Mexico_City:20260920T050000
DTSTAMP:20260424T123300
CREATED:20260226T203907Z
LAST-MODIFIED:20260226T203942Z
UID:10001847-1789880400-1789880400@soloatletas.com
SUMMARY:TRAIL RUN PINAL DE AMOLES 26. 19K
DESCRIPTION:
URL:https://soloatletas.com/evento-deportivo/trail-run-pinal-de-amoles-26-19k/
LOCATION:Querétaro\, Querétaro\, Querétaro\, Querétaro\, Mexico
CATEGORIES:Trail
ATTACH;FMTTYPE=image/jpeg:https://soloatletas.com/wp-content/uploads/PINAQL-26.jpg
ORGANIZER;CN="Trail Run Adventure MX":MAILTO:trailrunadventure@gmail.com
END:VEVENT
BEGIN:VEVENT
DTSTART;TZID=America/Mexico_City:20260920T050000
DTEND;TZID=America/Mexico_City:20260920T050000
DTSTAMP:20260424T123300
CREATED:20260226T204908Z
LAST-MODIFIED:20260226T205055Z
UID:10001848-1789880400-1789880400@soloatletas.com
SUMMARY:TRAIL RUN PINAL DE AMOLES 26. 14K
DESCRIPTION:
URL:https://soloatletas.com/evento-deportivo/trail-run-pinal-de-amoles-26-14k/
LOCATION:Querétaro\, Querétaro\, Querétaro\, Querétaro\, Mexico
CATEGORIES:Trail
ATTACH;FMTTYPE=image/jpeg:https://soloatletas.com/wp-content/uploads/PINAQL-26.jpg
ORGANIZER;CN="Trail Run Adventure MX":MAILTO:trailrunadventure@gmail.com
END:VEVENT
END:VCALENDAR