BEGIN:VCALENDAR
VERSION:2.0
PRODID:-//Solo Atletas - ECPv6.15.16//NONSGML v1.0//EN
CALSCALE:GREGORIAN
METHOD:PUBLISH
X-WR-CALNAME:Solo Atletas
X-ORIGINAL-URL:https://soloatletas.com
X-WR-CALDESC:Eventos para Solo Atletas
REFRESH-INTERVAL;VALUE=DURATION:PT1H
X-Robots-Tag:noindex
X-PUBLISHED-TTL:PT1H
BEGIN:VTIMEZONE
TZID:America/Mexico_City
BEGIN:STANDARD
TZOFFSETFROM:-0600
TZOFFSETTO:-0600
TZNAME:CST
DTSTART:20250101T000000
END:STANDARD
END:VTIMEZONE
BEGIN:VEVENT
DTSTART;TZID=America/Mexico_City:20260208T073000
DTEND;TZID=America/Mexico_City:20260208T073000
DTSTAMP:20260424T123702
CREATED:20260109T202831Z
LAST-MODIFIED:20260109T202831Z
UID:10001742-1770535800-1770535800@soloatletas.com
SUMMARY:TOUCHDOWN RACE 2026 10K
DESCRIPTION:
URL:https://soloatletas.com/evento-deportivo/touchdown-race-2026-10k/
LOCATION:Parque Fundidora\, Monterrey NL\, Parque Fundidora\, Monterrey\, Nuevo León\, Mexico
CATEGORIES:Calle
ATTACH;FMTTYPE=image/png:https://soloatletas.com/wp-content/uploads/IMG_0151.png
END:VEVENT
BEGIN:VEVENT
DTSTART;TZID=America/Mexico_City:20260208T073000
DTEND;TZID=America/Mexico_City:20260208T073000
DTSTAMP:20260424T123702
CREATED:20251229T182820Z
LAST-MODIFIED:20251229T182830Z
UID:10001620-1770535800-1770535800@soloatletas.com
SUMMARY:Trail Cuatro Ciénegas 2026 5K
DESCRIPTION:
URL:https://soloatletas.com/evento-deportivo/trail-cuatro-cienegas-2026-5k/
LOCATION:Coahulla de Zaragoza\, Coahuila de Zaragoza\, Zaragoza\, Mexico
CATEGORIES:Trail
ATTACH;FMTTYPE=image/jpeg:https://soloatletas.com/wp-content/uploads/IMG_0109.jpeg
ORGANIZER;CN="OlympicTimer":MAILTO:olympic.timer@gmail.com
END:VEVENT
BEGIN:VEVENT
DTSTART;TZID=America/Mexico_City:20260208T073000
DTEND;TZID=America/Mexico_City:20260208T073000
DTSTAMP:20260424T123702
CREATED:20251229T182706Z
LAST-MODIFIED:20251229T182717Z
UID:10001619-1770535800-1770535800@soloatletas.com
SUMMARY:Trail Cuatro Ciénegas 2026 12K
DESCRIPTION:
URL:https://soloatletas.com/evento-deportivo/trail-cuatro-cienegas-2026-12k/
LOCATION:Coahulla de Zaragoza\, Coahuila de Zaragoza\, Zaragoza\, Mexico
CATEGORIES:Trail
ATTACH;FMTTYPE=image/jpeg:https://soloatletas.com/wp-content/uploads/IMG_0109.jpeg
ORGANIZER;CN="OlympicTimer":MAILTO:olympic.timer@gmail.com
END:VEVENT
BEGIN:VEVENT
DTSTART;TZID=America/Mexico_City:20260208T073000
DTEND;TZID=America/Mexico_City:20260208T073000
DTSTAMP:20260424T123702
CREATED:20251229T182531Z
LAST-MODIFIED:20251229T182531Z
UID:10001618-1770535800-1770535800@soloatletas.com
SUMMARY:Trail Cuatro Ciénegas 2026 21K
DESCRIPTION:
URL:https://soloatletas.com/evento-deportivo/trail-cuatro-cienegas-2026-21k/
LOCATION:Coahulla de Zaragoza\, Coahuila de Zaragoza\, Zaragoza\, Mexico
CATEGORIES:Trail
ATTACH;FMTTYPE=image/jpeg:https://soloatletas.com/wp-content/uploads/IMG_0109.jpeg
ORGANIZER;CN="OlympicTimer":MAILTO:olympic.timer@gmail.com
END:VEVENT
BEGIN:VEVENT
DTSTART;TZID=America/Mexico_City:20260208T070000
DTEND;TZID=America/Mexico_City:20260208T070000
DTSTAMP:20260424T123702
CREATED:20251228T152259Z
LAST-MODIFIED:20251228T152310Z
UID:10001565-1770534000-1770534000@soloatletas.com
SUMMARY:Super Bowl LX Fan Race MX 2026 2.5K
DESCRIPTION:
URL:https://soloatletas.com/evento-deportivo/super-bowl-lx-fan-race-mx-2026-2-5k/
LOCATION:CDMX\, CDMX\, CDMX\, CDMX\, Mexico
CATEGORIES:Calle
ATTACH;FMTTYPE=image/jpeg:https://soloatletas.com/wp-content/uploads/IMG_0094.jpeg
END:VEVENT
BEGIN:VEVENT
DTSTART;TZID=America/Mexico_City:20260208T070000
DTEND;TZID=America/Mexico_City:20260208T070000
DTSTAMP:20260424T123702
CREATED:20251228T151925Z
LAST-MODIFIED:20251228T152112Z
UID:10001564-1770534000-1770534000@soloatletas.com
SUMMARY:Super Bowl LX Fan Race MX 2026 5K
DESCRIPTION:
URL:https://soloatletas.com/evento-deportivo/super-bowl-lx-fan-race-mx-2026-5k/
LOCATION:CDMX\, CDMX\, CDMX\, CDMX\, Mexico
CATEGORIES:Calle
ATTACH;FMTTYPE=image/jpeg:https://soloatletas.com/wp-content/uploads/IMG_0094.jpeg
END:VEVENT
BEGIN:VEVENT
DTSTART;TZID=America/Mexico_City:20260208T070000
DTEND;TZID=America/Mexico_City:20260208T070000
DTSTAMP:20260424T123702
CREATED:20251228T151639Z
LAST-MODIFIED:20251228T151715Z
UID:10001563-1770534000-1770534000@soloatletas.com
SUMMARY:Super Bowl LX Fan Race MX 2026 10K
DESCRIPTION:
URL:https://soloatletas.com/evento-deportivo/super-bowl-lx-fan-race-mx-2026-10k/
LOCATION:CDMX\, CDMX\, CDMX\, CDMX\, Mexico
CATEGORIES:Calle
ATTACH;FMTTYPE=image/jpeg:https://soloatletas.com/wp-content/uploads/IMG_0094.jpeg
END:VEVENT
BEGIN:VEVENT
DTSTART;TZID=America/Mexico_City:20260208T070000
DTEND;TZID=America/Mexico_City:20260208T070000
DTSTAMP:20260424T123702
CREATED:20251228T150228Z
LAST-MODIFIED:20251228T150247Z
UID:10001562-1770534000-1770534000@soloatletas.com
SUMMARY:12ava Carrera AMANC “Ningún guerrero lucha solo” 3K
DESCRIPTION:
URL:https://soloatletas.com/evento-deportivo/12ava-carrera-amanc-ningun-guerrero-lucha-solo-3k/
LOCATION:Puebla Zaragoza\, Puebla\, Puebla Zaragoza\, Zaragoza\, Puebla\, Mexico
CATEGORIES:Calle
ATTACH;FMTTYPE=image/jpeg:https://soloatletas.com/wp-content/uploads/IMG_0093.jpeg
ORGANIZER;CN="Admonamanpuebla":MAILTO:admonamancpuebla@gmail.com
END:VEVENT
BEGIN:VEVENT
DTSTART;TZID=America/Mexico_City:20260208T070000
DTEND;TZID=America/Mexico_City:20260208T070000
DTSTAMP:20260424T123702
CREATED:20251228T150130Z
LAST-MODIFIED:20251228T150141Z
UID:10001561-1770534000-1770534000@soloatletas.com
SUMMARY:12ava Carrera AMANC “Ningún guerrero lucha solo” 5K
DESCRIPTION:
URL:https://soloatletas.com/evento-deportivo/12ava-carrera-amanc-ningun-guerrero-lucha-solo-5k/
LOCATION:Puebla Zaragoza\, Puebla\, Puebla Zaragoza\, Zaragoza\, Puebla\, Mexico
CATEGORIES:Calle
ATTACH;FMTTYPE=image/jpeg:https://soloatletas.com/wp-content/uploads/IMG_0093.jpeg
ORGANIZER;CN="Admonamanpuebla":MAILTO:admonamancpuebla@gmail.com
END:VEVENT
BEGIN:VEVENT
DTSTART;TZID=America/Mexico_City:20260208T070000
DTEND;TZID=America/Mexico_City:20260208T070000
DTSTAMP:20260424T123702
CREATED:20251228T145708Z
LAST-MODIFIED:20251228T145721Z
UID:10001560-1770534000-1770534000@soloatletas.com
SUMMARY:12ava Carrera AMANC “Ningún guerrero lucha solo” 10K
DESCRIPTION:
URL:https://soloatletas.com/evento-deportivo/12ava-carrera-amanc-ningun-guerrero-lucha-solo-10k/
LOCATION:Puebla Zaragoza\, Puebla\, Puebla Zaragoza\, Zaragoza\, Puebla\, Mexico
CATEGORIES:Calle
ATTACH;FMTTYPE=image/jpeg:https://soloatletas.com/wp-content/uploads/IMG_0093.jpeg
ORGANIZER;CN="Admonamanpuebla":MAILTO:admonamancpuebla@gmail.com
END:VEVENT
BEGIN:VEVENT
DTSTART;TZID=America/Mexico_City:20260208T070000
DTEND;TZID=America/Mexico_City:20260208T070000
DTSTAMP:20260424T123702
CREATED:20251216T180110Z
LAST-MODIFIED:20251216T180201Z
UID:10001489-1770534000-1770534000@soloatletas.com
SUMMARY:Sky Line Zembo 2026 7K
DESCRIPTION:
URL:https://soloatletas.com/evento-deportivo/sky-line-zembo-2026-7k/
LOCATION:El Zembo\, HGO\, El Zembo\, HGO\, Hidalgo
CATEGORIES:Trail
ATTACH;FMTTYPE=image/jpeg:https://soloatletas.com/wp-content/uploads/icono-zembo.jpg
ORGANIZER;CN="Carreras Mexico":MAILTO:contacto@carrerasmexico.com
END:VEVENT
BEGIN:VEVENT
DTSTART;TZID=America/Mexico_City:20260208T070000
DTEND;TZID=America/Mexico_City:20260208T070000
DTSTAMP:20260424T123702
CREATED:20251216T175917Z
LAST-MODIFIED:20251216T175958Z
UID:10001488-1770534000-1770534000@soloatletas.com
SUMMARY:Sky Line Zembo 2026 17K
DESCRIPTION:
URL:https://soloatletas.com/evento-deportivo/sky-line-zembo-2026-17k/
LOCATION:El Zembo\, HGO\, El Zembo\, HGO\, Hidalgo
CATEGORIES:Trail
ATTACH;FMTTYPE=image/jpeg:https://soloatletas.com/wp-content/uploads/icono-zembo.jpg
ORGANIZER;CN="Carreras Mexico":MAILTO:contacto@carrerasmexico.com
END:VEVENT
BEGIN:VEVENT
DTSTART;TZID=America/Mexico_City:20260208T070000
DTEND;TZID=America/Mexico_City:20260208T070000
DTSTAMP:20260424T123702
CREATED:20251216T175729Z
LAST-MODIFIED:20251216T175801Z
UID:10001487-1770534000-1770534000@soloatletas.com
SUMMARY:Sky Line Zembo 2026 27K
DESCRIPTION:
URL:https://soloatletas.com/evento-deportivo/sky-line-zembo-2026-27k/
LOCATION:El Zembo\, HGO\, El Zembo\, HGO\, Hidalgo
CATEGORIES:Trail
ATTACH;FMTTYPE=image/jpeg:https://soloatletas.com/wp-content/uploads/icono-zembo.jpg
ORGANIZER;CN="Carreras Mexico":MAILTO:contacto@carrerasmexico.com
END:VEVENT
BEGIN:VEVENT
DTSTART;TZID=America/Mexico_City:20260208T063000
DTEND;TZID=America/Mexico_City:20260208T063000
DTSTAMP:20260424T123702
CREATED:20251231T210300Z
LAST-MODIFIED:20251231T210316Z
UID:10001710-1770532200-1770532200@soloatletas.com
SUMMARY:Carrera de los Barrios Guiar 2026 5K
DESCRIPTION:
URL:https://soloatletas.com/evento-deportivo/carrera-de-los-barrios-guiar-2026-5k/
LOCATION:León\, Guanajuato\, Centro\, León\, Guanajuato\, Mexico
CATEGORIES:Calle
ATTACH;FMTTYPE=image/png:https://soloatletas.com/wp-content/uploads/IMG_0117.png
END:VEVENT
BEGIN:VEVENT
DTSTART;TZID=America/Mexico_City:20260208T063000
DTEND;TZID=America/Mexico_City:20260208T063000
DTSTAMP:20260424T123702
CREATED:20251231T205317Z
LAST-MODIFIED:20251231T205517Z
UID:10001709-1770532200-1770532200@soloatletas.com
SUMMARY:Carrera de los Barrios Guiar 2026 10K
DESCRIPTION:
URL:https://soloatletas.com/evento-deportivo/carrera-de-los-barrios-guiar-2026-10k/
LOCATION:León\, Guanajuato\, Centro\, León\, Guanajuato\, Mexico
CATEGORIES:Calle
ATTACH;FMTTYPE=image/png:https://soloatletas.com/wp-content/uploads/IMG_0117.png
END:VEVENT
BEGIN:VEVENT
DTSTART;TZID=America/Mexico_City:20260208T063000
DTEND;TZID=America/Mexico_City:20260208T063000
DTSTAMP:20260424T123702
CREATED:20251231T205114Z
LAST-MODIFIED:20251231T205129Z
UID:10001708-1770532200-1770532200@soloatletas.com
SUMMARY:Carrera de los Barrios Guiar 2026 21K
DESCRIPTION:
URL:https://soloatletas.com/evento-deportivo/carrera-de-los-barrios-guiar-2026-21k/
LOCATION:León\, Guanajuato\, Centro\, León\, Guanajuato\, Mexico
CATEGORIES:Calle
ATTACH;FMTTYPE=image/png:https://soloatletas.com/wp-content/uploads/IMG_0117.png
END:VEVENT
BEGIN:VEVENT
DTSTART;TZID=America/Mexico_City:20260207T050000
DTEND;TZID=America/Mexico_City:20260207T050000
DTSTAMP:20260424T123702
CREATED:20260227T223159Z
LAST-MODIFIED:20260227T223217Z
UID:10001853-1770440400-1770440400@soloatletas.com
SUMMARY:LA CAÑÓN DEL PARAÍSO TRAIL RUN 2027 12K
DESCRIPTION:
URL:https://soloatletas.com/evento-deportivo/la-canon-del-paraiso-trail-run-2027-12k/
LOCATION:Querétaro\, Querétaro\, Querétaro\, Querétaro\, Mexico
CATEGORIES:Trail
ATTACH;FMTTYPE=image/jpeg:https://soloatletas.com/wp-content/uploads/CANON-26.jpg
ORGANIZER;CN="Trail Run Adventure MX":MAILTO:trailrunadventure@gmail.com
END:VEVENT
BEGIN:VEVENT
DTSTART;TZID=America/Mexico_City:20260207T050000
DTEND;TZID=America/Mexico_City:20260207T050000
DTSTAMP:20260424T123702
CREATED:20260227T223044Z
LAST-MODIFIED:20260227T223044Z
UID:10001852-1770440400-1770440400@soloatletas.com
SUMMARY:LA CAÑÓN DEL PARAÍSO TRAIL RUN 2027 16K
DESCRIPTION:
URL:https://soloatletas.com/evento-deportivo/la-canon-del-paraiso-trail-run-2027-16k/
LOCATION:Querétaro\, Querétaro\, Querétaro\, Querétaro\, Mexico
CATEGORIES:Trail
ATTACH;FMTTYPE=image/jpeg:https://soloatletas.com/wp-content/uploads/CANON-26.jpg
ORGANIZER;CN="Trail Run Adventure MX":MAILTO:trailrunadventure@gmail.com
END:VEVENT
BEGIN:VEVENT
DTSTART;TZID=America/Mexico_City:20260207T050000
DTEND;TZID=America/Mexico_City:20260207T050000
DTSTAMP:20260424T123702
CREATED:20260227T222806Z
LAST-MODIFIED:20260227T222833Z
UID:10001851-1770440400-1770440400@soloatletas.com
SUMMARY:LA CAÑÓN DEL PARAÍSO TRAIL RUN 2027 19K
DESCRIPTION:
URL:https://soloatletas.com/evento-deportivo/la-canon-del-paraiso-trail-run-2027-19k/
LOCATION:Querétaro\, Querétaro\, Querétaro\, Querétaro\, Mexico
CATEGORIES:Trail
ATTACH;FMTTYPE=image/jpeg:https://soloatletas.com/wp-content/uploads/CANON-26.jpg
ORGANIZER;CN="Trail Run Adventure MX":MAILTO:trailrunadventure@gmail.com
END:VEVENT
BEGIN:VEVENT
DTSTART;TZID=America/Mexico_City:20260207T050000
DTEND;TZID=America/Mexico_City:20260207T050000
DTSTAMP:20260424T123702
CREATED:20260227T222600Z
LAST-MODIFIED:20260227T222654Z
UID:10001850-1770440400-1770440400@soloatletas.com
SUMMARY:LA CAÑÓN DEL PARAÍSO TRAIL RUN 2027 26K
DESCRIPTION:
URL:https://soloatletas.com/evento-deportivo/la-canon-del-paraiso-trail-run-2027-26k/
LOCATION:Querétaro\, Querétaro\, Querétaro\, Querétaro\, Mexico
CATEGORIES:Trail
ATTACH;FMTTYPE=image/jpeg:https://soloatletas.com/wp-content/uploads/CANON-26.jpg
ORGANIZER;CN="Trail Run Adventure MX":MAILTO:trailrunadventure@gmail.com
END:VEVENT
BEGIN:VEVENT
DTSTART;TZID=America/Mexico_City:20260201T080000
DTEND;TZID=America/Mexico_City:20260201T080000
DTSTAMP:20260424T123702
CREATED:20260117T193544Z
LAST-MODIFIED:20260117T193627Z
UID:10001755-1769932800-1769932800@soloatletas.com
SUMMARY:Del Ring Al Running Mty 1k
DESCRIPTION:
URL:https://soloatletas.com/evento-deportivo/del-ring-al-running-mty-1k/
LOCATION:Parque Fundidora\, Monterrey NL\, Parque Fundidora\, Monterrey\, Nuevo León\, Mexico
CATEGORIES:Calle
ATTACH;FMTTYPE=image/png:https://soloatletas.com/wp-content/uploads/ad4d398d-ccb7-4ff9-9d6e-7b62003496ba_logocarreras70.png
END:VEVENT
BEGIN:VEVENT
DTSTART;TZID=America/Mexico_City:20260201T080000
DTEND;TZID=America/Mexico_City:20260201T080000
DTSTAMP:20260424T123702
CREATED:20260117T193053Z
LAST-MODIFIED:20260117T193448Z
UID:10001754-1769932800-1769932800@soloatletas.com
SUMMARY:Del Ring Al Running Mty 5k
DESCRIPTION:
URL:https://soloatletas.com/evento-deportivo/del-ring-al-running-mty-5k/
LOCATION:Parque Fundidora\, Monterrey NL\, Parque Fundidora\, Monterrey\, Nuevo León\, Mexico
CATEGORIES:Calle
ATTACH;FMTTYPE=image/png:https://soloatletas.com/wp-content/uploads/ad4d398d-ccb7-4ff9-9d6e-7b62003496ba_logocarreras70.png
END:VEVENT
BEGIN:VEVENT
DTSTART;TZID=America/Mexico_City:20260201T080000
DTEND;TZID=America/Mexico_City:20260201T080000
DTSTAMP:20260424T123702
CREATED:20260117T192541Z
LAST-MODIFIED:20260117T192606Z
UID:10001753-1769932800-1769932800@soloatletas.com
SUMMARY:Del Ring Al Running Mty 10k
DESCRIPTION:
URL:https://soloatletas.com/evento-deportivo/del-ring-al-running-mty-10k-2/
LOCATION:Parque Fundidora\, Monterrey NL\, Parque Fundidora\, Monterrey\, Nuevo León\, Mexico
CATEGORIES:Calle
ATTACH;FMTTYPE=image/png:https://soloatletas.com/wp-content/uploads/ad4d398d-ccb7-4ff9-9d6e-7b62003496ba_logocarreras70.png
END:VEVENT
BEGIN:VEVENT
DTSTART;TZID=America/Mexico_City:20260201T080000
DTEND;TZID=America/Mexico_City:20260201T080000
DTSTAMP:20260424T123702
CREATED:20251231T012059Z
LAST-MODIFIED:20251231T012110Z
UID:10001688-1769932800-1769932800@soloatletas.com
SUMMARY:Serial Nacional Downhill 2026\, CDMX
DESCRIPTION:
URL:https://soloatletas.com/evento-deportivo/serial-nacional-downhill-2026-cdmx/
LOCATION:Ajusco\, CDMX\, Ajusco\, CDMX\, Mexico
CATEGORIES:Ciclismo
ATTACH;FMTTYPE=image/jpeg:https://soloatletas.com/wp-content/uploads/images-5.jpg
END:VEVENT
BEGIN:VEVENT
DTSTART;TZID=America/Mexico_City:20260201T080000
DTEND;TZID=America/Mexico_City:20260201T080000
DTSTAMP:20260424T123702
CREATED:20251227T232957Z
LAST-MODIFIED:20251227T233012Z
UID:10001559-1769932800-1769932800@soloatletas.com
SUMMARY:Carrera del AJOLOTE 2026 Carrera del AJOLOTE 2026 200mt
DESCRIPTION:
URL:https://soloatletas.com/evento-deportivo/carrera-del-ajolote-2026-carrera-del-ajolote-2026-200mt/
LOCATION:Ciudad de México\, CDMX\, Centro\, Ciudad de México\, CDMX\, Mexico
CATEGORIES:Calle
ATTACH;FMTTYPE=image/jpeg:https://soloatletas.com/wp-content/uploads/IMG_0091.jpeg
END:VEVENT
BEGIN:VEVENT
DTSTART;TZID=America/Mexico_City:20260201T080000
DTEND;TZID=America/Mexico_City:20260201T080000
DTSTAMP:20260424T123702
CREATED:20251227T232801Z
LAST-MODIFIED:20251227T232819Z
UID:10001558-1769932800-1769932800@soloatletas.com
SUMMARY:Carrera del AJOLOTE 2026 Carrera del AJOLOTE 2026 400mt
DESCRIPTION:
URL:https://soloatletas.com/evento-deportivo/carrera-del-ajolote-2026-carrera-del-ajolote-2026-400mt-2/
LOCATION:Ciudad de México\, CDMX\, Centro\, Ciudad de México\, CDMX\, Mexico
CATEGORIES:Calle
ATTACH;FMTTYPE=image/jpeg:https://soloatletas.com/wp-content/uploads/IMG_0091.jpeg
END:VEVENT
BEGIN:VEVENT
DTSTART;TZID=America/Mexico_City:20260201T080000
DTEND;TZID=America/Mexico_City:20260201T080000
DTSTAMP:20260424T123702
CREATED:20251227T232503Z
LAST-MODIFIED:20251227T232653Z
UID:10001557-1769932800-1769932800@soloatletas.com
SUMMARY:Carrera del AJOLOTE 2026 Carrera del AJOLOTE 2026 800mt
DESCRIPTION:
URL:https://soloatletas.com/evento-deportivo/carrera-del-ajolote-2026-carrera-del-ajolote-2026-400mt/
LOCATION:Ciudad de México\, CDMX\, Centro\, Ciudad de México\, CDMX\, Mexico
CATEGORIES:Calle
ATTACH;FMTTYPE=image/jpeg:https://soloatletas.com/wp-content/uploads/IMG_0091.jpeg
END:VEVENT
BEGIN:VEVENT
DTSTART;TZID=America/Mexico_City:20260201T080000
DTEND;TZID=America/Mexico_City:20260201T080000
DTSTAMP:20260424T123702
CREATED:20251227T232158Z
LAST-MODIFIED:20251227T232211Z
UID:10001556-1769932800-1769932800@soloatletas.com
SUMMARY:Carrera del AJOLOTE 2026 Carrera del AJOLOTE 2026 5K
DESCRIPTION:
URL:https://soloatletas.com/evento-deportivo/carrera-del-ajolote-2026-carrera-del-ajolote-2026-5k/
LOCATION:Ciudad de México\, CDMX\, Centro\, Ciudad de México\, CDMX\, Mexico
CATEGORIES:Calle
ATTACH;FMTTYPE=image/jpeg:https://soloatletas.com/wp-content/uploads/IMG_0091.jpeg
END:VEVENT
BEGIN:VEVENT
DTSTART;TZID=America/Mexico_City:20260201T060000
DTEND;TZID=America/Mexico_City:20260201T060000
DTSTAMP:20260424T123702
CREATED:20251212T182033Z
LAST-MODIFIED:20251212T182042Z
UID:10001468-1769925600-1769925600@soloatletas.com
SUMMARY:Trail Run El Sargento 5K
DESCRIPTION:
URL:https://soloatletas.com/evento-deportivo/trail-run-el-sargento-5k/
LOCATION:Baja California Sur\, Baja California Sur\, Baja California Sur\, Mexico
CATEGORIES:Trail
ATTACH;FMTTYPE=image/jpeg:https://soloatletas.com/wp-content/uploads/Logo_trail_run_el_sargento.jpg
ORGANIZER;CN="Carreras Mexico":MAILTO:contacto@carrerasmexico.com
END:VEVENT
BEGIN:VEVENT
DTSTART;TZID=America/Mexico_City:20260201T060000
DTEND;TZID=America/Mexico_City:20260201T060000
DTSTAMP:20260424T123702
CREATED:20251212T181922Z
LAST-MODIFIED:20251212T181934Z
UID:10001467-1769925600-1769925600@soloatletas.com
SUMMARY:Trail Run El Sargento 8K
DESCRIPTION:
URL:https://soloatletas.com/evento-deportivo/trail-run-el-sargento-8k/
LOCATION:Baja California Sur\, Baja California Sur\, Baja California Sur\, Mexico
CATEGORIES:Trail
ATTACH;FMTTYPE=image/jpeg:https://soloatletas.com/wp-content/uploads/Logo_trail_run_el_sargento.jpg
ORGANIZER;CN="Carreras Mexico":MAILTO:contacto@carrerasmexico.com
END:VEVENT
END:VCALENDAR