BEGIN:VCALENDAR
VERSION:2.0
PRODID:-//Solo Atletas - ECPv6.15.16//NONSGML v1.0//EN
CALSCALE:GREGORIAN
METHOD:PUBLISH
X-WR-CALNAME:Solo Atletas
X-ORIGINAL-URL:https://soloatletas.com
X-WR-CALDESC:Eventos para Solo Atletas
REFRESH-INTERVAL;VALUE=DURATION:PT1H
X-Robots-Tag:noindex
X-PUBLISHED-TTL:PT1H
BEGIN:VTIMEZONE
TZID:America/Mexico_City
BEGIN:STANDARD
TZOFFSETFROM:-0600
TZOFFSETTO:-0600
TZNAME:CST
DTSTART:20250101T000000
END:STANDARD
END:VTIMEZONE
BEGIN:VEVENT
DTSTART;TZID=America/Mexico_City:20260118T063000
DTEND;TZID=America/Mexico_City:20260118T063000
DTSTAMP:20260424T211926
CREATED:20251227T224828Z
LAST-MODIFIED:20251227T224844Z
UID:10001552-1768717800-1768717800@soloatletas.com
SUMMARY:Human 21 km 2026 5K
DESCRIPTION:
URL:https://soloatletas.com/evento-deportivo/human-21-km-2026-5k/
LOCATION:Paseo de la Reforma\, CDMX\, Paseo de la Reforma\, Paseo de la Reforma\, CDMX\, Mexico
CATEGORIES:Calle
ATTACH;FMTTYPE=image/jpeg:https://soloatletas.com/wp-content/uploads/IMG_0086.jpeg
END:VEVENT
BEGIN:VEVENT
DTSTART;TZID=America/Mexico_City:20260118T063000
DTEND;TZID=America/Mexico_City:20260118T063000
DTSTAMP:20260424T211926
CREATED:20251227T224651Z
LAST-MODIFIED:20251227T224702Z
UID:10001551-1768717800-1768717800@soloatletas.com
SUMMARY:Human 21 km 2026 10K
DESCRIPTION:
URL:https://soloatletas.com/evento-deportivo/human-21-km-2026-10k/
LOCATION:Paseo de la Reforma\, CDMX\, Paseo de la Reforma\, Paseo de la Reforma\, CDMX\, Mexico
CATEGORIES:Calle
ATTACH;FMTTYPE=image/jpeg:https://soloatletas.com/wp-content/uploads/IMG_0086.jpeg
END:VEVENT
BEGIN:VEVENT
DTSTART;TZID=America/Mexico_City:20260118T063000
DTEND;TZID=America/Mexico_City:20260118T063000
DTSTAMP:20260424T211926
CREATED:20251227T224422Z
LAST-MODIFIED:20251227T224433Z
UID:10001550-1768717800-1768717800@soloatletas.com
SUMMARY:Human 21 km 2026 21K
DESCRIPTION:
URL:https://soloatletas.com/evento-deportivo/human-21-km-2026-21k/
LOCATION:Paseo de la Reforma\, CDMX\, Paseo de la Reforma\, Paseo de la Reforma\, CDMX\, Mexico
CATEGORIES:Calle
ATTACH;FMTTYPE=image/jpeg:https://soloatletas.com/wp-content/uploads/IMG_0086.jpeg
END:VEVENT
BEGIN:VEVENT
DTSTART;TZID=America/Mexico_City:20260118T063000
DTEND;TZID=America/Mexico_City:20260118T063000
DTSTAMP:20260424T211926
CREATED:20251227T223934Z
LAST-MODIFIED:20251227T223946Z
UID:10001549-1768717800-1768717800@soloatletas.com
SUMMARY:Shrek Run 2026 5K
DESCRIPTION:
URL:https://soloatletas.com/evento-deportivo/shrek-run-2026-5k/
LOCATION:Ciudad de México\, CDMX\, Centro\, Ciudad de México\, CDMX\, Mexico
CATEGORIES:Calle
ATTACH;FMTTYPE=image/jpeg:https://soloatletas.com/wp-content/uploads/IMG_0085.jpeg
END:VEVENT
BEGIN:VEVENT
DTSTART;TZID=America/Mexico_City:20260118T063000
DTEND;TZID=America/Mexico_City:20260118T063000
DTSTAMP:20260424T211926
CREATED:20251227T223807Z
LAST-MODIFIED:20251227T223818Z
UID:10001548-1768717800-1768717800@soloatletas.com
SUMMARY:Shrek Run 2026 15K
DESCRIPTION:
URL:https://soloatletas.com/evento-deportivo/shrek-run-2026-15k/
LOCATION:Ciudad de México\, CDMX\, Centro\, Ciudad de México\, CDMX\, Mexico
CATEGORIES:Calle
ATTACH;FMTTYPE=image/jpeg:https://soloatletas.com/wp-content/uploads/IMG_0085.jpeg
END:VEVENT
BEGIN:VEVENT
DTSTART;TZID=America/Mexico_City:20260118T060000
DTEND;TZID=America/Mexico_City:20260118T060000
DTSTAMP:20260424T211926
CREATED:20251227T223006Z
LAST-MODIFIED:20251227T223016Z
UID:10001547-1768716000-1768716000@soloatletas.com
SUMMARY:21k San Carlos 2026 5K
DESCRIPTION:
URL:https://soloatletas.com/evento-deportivo/21k-san-carlos-2026-5k/
LOCATION:San Carlos\, Sonora\, San Carlos\, Sonora\, San Carlos\, Mexico
CATEGORIES:Calle
ATTACH;FMTTYPE=image/jpeg:https://soloatletas.com/wp-content/uploads/IMG_0084.jpeg
END:VEVENT
BEGIN:VEVENT
DTSTART;TZID=America/Mexico_City:20260118T060000
DTEND;TZID=America/Mexico_City:20260118T060000
DTSTAMP:20260424T211926
CREATED:20251227T222840Z
LAST-MODIFIED:20251227T223106Z
UID:10001546-1768716000-1768716000@soloatletas.com
SUMMARY:21k San Carlos 2026 10K
DESCRIPTION:
URL:https://soloatletas.com/evento-deportivo/21k-san-carlos-2026-10k/
LOCATION:San Carlos\, Sonora\, San Carlos\, Sonora\, San Carlos\, Mexico
CATEGORIES:Calle
ATTACH;FMTTYPE=image/jpeg:https://soloatletas.com/wp-content/uploads/IMG_0084.jpeg
END:VEVENT
BEGIN:VEVENT
DTSTART;TZID=America/Mexico_City:20260118T060000
DTEND;TZID=America/Mexico_City:20260118T060000
DTSTAMP:20260424T211926
CREATED:20251227T222537Z
LAST-MODIFIED:20251227T222549Z
UID:10001545-1768716000-1768716000@soloatletas.com
SUMMARY:21k San Carlos 2026 21K
DESCRIPTION:
URL:https://soloatletas.com/evento-deportivo/21k-san-carlos-2026-21k/
LOCATION:San Carlos\, Sonora\, San Carlos\, Sonora\, San Carlos\, Mexico
CATEGORIES:Calle
ATTACH;FMTTYPE=image/jpeg:https://soloatletas.com/wp-content/uploads/IMG_0084.jpeg
END:VEVENT
BEGIN:VEVENT
DTSTART;TZID=America/Mexico_City:20260118T060000
DTEND;TZID=America/Mexico_City:20260118T060000
DTSTAMP:20260424T211926
CREATED:20251216T174747Z
LAST-MODIFIED:20251216T174757Z
UID:10001486-1768716000-1768716000@soloatletas.com
SUMMARY:XXVII Trail Villa del Carbon 15K
DESCRIPTION:
URL:https://soloatletas.com/evento-deportivo/xxvii-trail-villa-del-carbon-15k/
LOCATION:Villa del Carbón\, Estado de México\, Villa del Carbón\, Villa del Carbón\, Estado de México\, Mexico
CATEGORIES:Trail
ATTACH;FMTTYPE=image/jpeg:https://soloatletas.com/wp-content/uploads/icono-carbon.jpeg
ORGANIZER;CN="Carreras Mexico":MAILTO:contacto@carrerasmexico.com
END:VEVENT
BEGIN:VEVENT
DTSTART;TZID=America/Mexico_City:20260118T060000
DTEND;TZID=America/Mexico_City:20260118T060000
DTSTAMP:20260424T211926
CREATED:20251216T174540Z
LAST-MODIFIED:20251216T174559Z
UID:10001485-1768716000-1768716000@soloatletas.com
SUMMARY:XXVII Trail Villa del Carbon 28K
DESCRIPTION:
URL:https://soloatletas.com/evento-deportivo/xxvii-trail-villa-del-carbon-28k/
LOCATION:Villa del Carbón\, Estado de México\, Villa del Carbón\, Villa del Carbón\, Estado de México\, Mexico
CATEGORIES:Trail
ATTACH;FMTTYPE=image/jpeg:https://soloatletas.com/wp-content/uploads/icono-carbon.jpeg
ORGANIZER;CN="Carreras Mexico":MAILTO:contacto@carrerasmexico.com
END:VEVENT
BEGIN:VEVENT
DTSTART;TZID=America/Mexico_City:20260118T060000
DTEND;TZID=America/Mexico_City:20260118T060000
DTSTAMP:20260424T211926
CREATED:20251215T173142Z
LAST-MODIFIED:20251215T173208Z
UID:10001484-1768716000-1768716000@soloatletas.com
SUMMARY:Maratón Cabo San Lucas\, Los Cabos\, BCS 2026 5K
DESCRIPTION:
URL:https://soloatletas.com/evento-deportivo/maraton-cabo-san-lucas-los-cabos-bcs-2026-5k/
LOCATION:Baja California Sur\, Baja California Sur\, Baja California Sur\, Mexico
CATEGORIES:Calle
ATTACH;FMTTYPE=image/jpeg:https://soloatletas.com/wp-content/uploads/1754673216935_300-CABO.jpg
ORGANIZER;CN="runbcsmx":MAILTO:runbcsmx@gmail.com
END:VEVENT
BEGIN:VEVENT
DTSTART;TZID=America/Mexico_City:20260118T060000
DTEND;TZID=America/Mexico_City:20260118T060000
DTSTAMP:20260424T211926
CREATED:20251215T172953Z
LAST-MODIFIED:20251215T173045Z
UID:10001483-1768716000-1768716000@soloatletas.com
SUMMARY:Maratón Cabo San Lucas\, Los Cabos\, BCS 2026 10K
DESCRIPTION:
URL:https://soloatletas.com/evento-deportivo/maraton-cabo-san-lucas-los-cabos-bcs-2026-10k/
LOCATION:Baja California Sur\, Baja California Sur\, Baja California Sur\, Mexico
CATEGORIES:Calle
ATTACH;FMTTYPE=image/jpeg:https://soloatletas.com/wp-content/uploads/1754673216935_300-CABO.jpg
ORGANIZER;CN="runbcsmx":MAILTO:runbcsmx@gmail.com
END:VEVENT
BEGIN:VEVENT
DTSTART;TZID=America/Mexico_City:20260118T060000
DTEND;TZID=America/Mexico_City:20260118T060000
DTSTAMP:20260424T211926
CREATED:20251215T172704Z
LAST-MODIFIED:20251215T172748Z
UID:10001482-1768716000-1768716000@soloatletas.com
SUMMARY:Maratón Cabo San Lucas\, Los Cabos\, BCS 2026 21K
DESCRIPTION:
URL:https://soloatletas.com/evento-deportivo/maraton-cabo-san-lucas-los-cabos-bcs-2026-21k/
LOCATION:Baja California Sur\, Baja California Sur\, Baja California Sur\, Mexico
CATEGORIES:Calle
ATTACH;FMTTYPE=image/jpeg:https://soloatletas.com/wp-content/uploads/1754673216935_300-CABO.jpg
ORGANIZER;CN="runbcsmx":MAILTO:runbcsmx@gmail.com
END:VEVENT
BEGIN:VEVENT
DTSTART;TZID=America/Mexico_City:20260118T060000
DTEND;TZID=America/Mexico_City:20260118T060000
DTSTAMP:20260424T211926
CREATED:20251215T172407Z
LAST-MODIFIED:20251215T172422Z
UID:10001481-1768716000-1768716000@soloatletas.com
SUMMARY:Maratón Cabo San Lucas\, Los Cabos\, BCS 2026 42K
DESCRIPTION:
URL:https://soloatletas.com/evento-deportivo/maraton-cabo-san-lucas-los-cabos-bcs-2026-42k/
LOCATION:Baja California Sur\, Baja California Sur\, Baja California Sur\, Mexico
CATEGORIES:Calle
ATTACH;FMTTYPE=image/jpeg:https://soloatletas.com/wp-content/uploads/1754673216935_300-CABO.jpg
ORGANIZER;CN="runbcsmx":MAILTO:runbcsmx@gmail.com
END:VEVENT
BEGIN:VEVENT
DTSTART;TZID=America/Mexico_City:20260117T080000
DTEND;TZID=America/Mexico_City:20260118T070000
DTSTAMP:20260424T211926
CREATED:20251230T005338Z
LAST-MODIFIED:20251230T005346Z
UID:10001657-1768636800-1768719600@soloatletas.com
SUMMARY:Tres Culturas Travesía 60K
DESCRIPTION:
URL:https://soloatletas.com/evento-deportivo/tres-culturas-travesia-60k/
LOCATION:Pantepec\, Puebla\, Centro\, Pantepec\, Puebla\, Mexico
CATEGORIES:Trail
ATTACH;FMTTYPE=image/png:https://soloatletas.com/wp-content/uploads/Logo-3C-Color-M.png
END:VEVENT
BEGIN:VEVENT
DTSTART;TZID=America/Mexico_City:20260111T080000
DTEND;TZID=America/Mexico_City:20260111T080000
DTSTAMP:20260424T211926
CREATED:20251218T141732Z
LAST-MODIFIED:20251218T141745Z
UID:10001497-1768118400-1768118400@soloatletas.com
SUMMARY:Donuts Race 5k
DESCRIPTION:
URL:https://soloatletas.com/evento-deportivo/donuts-race-5k/
LOCATION:Xochimilco\, CDMX\, Xochimilco\, CDMX\, Mexico
CATEGORIES:Calle
ATTACH;FMTTYPE=image/jpeg:https://soloatletas.com/wp-content/uploads/banner-donuts.jpeg
ORGANIZER;CN="Carreras Mexico":MAILTO:contacto@carrerasmexico.com
END:VEVENT
BEGIN:VEVENT
DTSTART;TZID=America/Mexico_City:20260111T080000
DTEND;TZID=America/Mexico_City:20260111T080000
DTSTAMP:20260424T211926
CREATED:20250621T125146Z
LAST-MODIFIED:20250621T125146Z
UID:10001205-1768118400-1768118400@soloatletas.com
SUMMARY:Cañón del Paraíso Trail Run 2025 9K
DESCRIPTION:
URL:https://soloatletas.com/evento-deportivo/canon-del-paraiso-trail-run-2025-9k/
LOCATION:Peñamiller\, Querétaro\, Cañón del Paraiso\, Peñamiller\, Querétaro\, Mexico
CATEGORIES:Trail
ATTACH;FMTTYPE=image/jpeg:https://soloatletas.com/wp-content/uploads/CANON-LOGO-scaled.jpg
END:VEVENT
BEGIN:VEVENT
DTSTART;TZID=America/Mexico_City:20260111T080000
DTEND;TZID=America/Mexico_City:20260111T080000
DTSTAMP:20260424T211926
CREATED:20250621T124818Z
LAST-MODIFIED:20250621T124818Z
UID:10001204-1768118400-1768118400@soloatletas.com
SUMMARY:Cañón del Paraíso Trail Run 2025 15K
DESCRIPTION:
URL:https://soloatletas.com/evento-deportivo/canon-del-paraiso-trail-run-2025-15k/
LOCATION:Peñamiller\, Querétaro\, Cañón del Paraiso\, Peñamiller\, Querétaro\, Mexico
CATEGORIES:Trail
ATTACH;FMTTYPE=image/jpeg:https://soloatletas.com/wp-content/uploads/CANON-LOGO-scaled.jpg
END:VEVENT
BEGIN:VEVENT
DTSTART;TZID=America/Mexico_City:20260111T080000
DTEND;TZID=America/Mexico_City:20260111T080000
DTSTAMP:20260424T211926
CREATED:20250621T124650Z
LAST-MODIFIED:20250621T124650Z
UID:10001203-1768118400-1768118400@soloatletas.com
SUMMARY:Cañón del Paraíso Trail Run 2025 19K
DESCRIPTION:
URL:https://soloatletas.com/evento-deportivo/canon-del-paraiso-trail-run-2025-19k/
LOCATION:Peñamiller\, Querétaro\, Cañón del Paraiso\, Peñamiller\, Querétaro\, Mexico
CATEGORIES:Trail
ATTACH;FMTTYPE=image/jpeg:https://soloatletas.com/wp-content/uploads/CANON-LOGO-scaled.jpg
END:VEVENT
BEGIN:VEVENT
DTSTART;TZID=America/Mexico_City:20260111T080000
DTEND;TZID=America/Mexico_City:20260111T080000
DTSTAMP:20260424T211926
CREATED:20250621T124138Z
LAST-MODIFIED:20250621T124145Z
UID:10001202-1768118400-1768118400@soloatletas.com
SUMMARY:Cañón del Paraíso Trail Run 2025 24K
DESCRIPTION:
URL:https://soloatletas.com/evento-deportivo/canon-del-paraiso-trail-run-2025-24k/
LOCATION:Peñamiller\, Querétaro\, Cañón del Paraiso\, Peñamiller\, Querétaro\, Mexico
CATEGORIES:Trail
ATTACH;FMTTYPE=image/jpeg:https://soloatletas.com/wp-content/uploads/CANON-LOGO-scaled.jpg
END:VEVENT
BEGIN:VEVENT
DTSTART;TZID=America/Mexico_City:20260111T060000
DTEND;TZID=America/Mexico_City:20260111T060000
DTSTAMP:20260424T211926
CREATED:20251231T024629Z
LAST-MODIFIED:20251231T024629Z
UID:10001698-1768111200-1768111200@soloatletas.com
SUMMARY:Maratón Internacional Dolores Hidalgo 2026 10K
DESCRIPTION:
URL:https://soloatletas.com/evento-deportivo/maraton-internacional-dolores-hidalgo-2026-10k/
LOCATION:Dolores Hidalgo\, Gto\, Centro\, Dolores Hidalgo\, Guanajuato\, Mexico
CATEGORIES:Calle
ATTACH;FMTTYPE=image/png:https://soloatletas.com/wp-content/uploads/SPTMCAR1753990070_logo.png
END:VEVENT
BEGIN:VEVENT
DTSTART;TZID=America/Mexico_City:20260111T060000
DTEND;TZID=America/Mexico_City:20260111T060000
DTSTAMP:20260424T211926
CREATED:20251231T024507Z
LAST-MODIFIED:20251231T024507Z
UID:10001697-1768111200-1768111200@soloatletas.com
SUMMARY:Maratón Internacional Dolores Hidalgo 2026 21K
DESCRIPTION:
URL:https://soloatletas.com/evento-deportivo/maraton-internacional-dolores-hidalgo-2026-21k/
LOCATION:Dolores Hidalgo\, Gto\, Centro\, Dolores Hidalgo\, Guanajuato\, Mexico
CATEGORIES:Calle
ATTACH;FMTTYPE=image/png:https://soloatletas.com/wp-content/uploads/SPTMCAR1753990070_logo.png
END:VEVENT
BEGIN:VEVENT
DTSTART;TZID=America/Mexico_City:20260111T060000
DTEND;TZID=America/Mexico_City:20260111T060000
DTSTAMP:20260424T211926
CREATED:20251231T024325Z
LAST-MODIFIED:20251231T024334Z
UID:10001696-1768111200-1768111200@soloatletas.com
SUMMARY:Maratón Internacional Dolores Hidalgo 2026 42K
DESCRIPTION:
URL:https://soloatletas.com/evento-deportivo/maraton-internacional-dolores-hidalgo-2026-42k/
LOCATION:Dolores Hidalgo\, Gto\, Centro\, Dolores Hidalgo\, Guanajuato\, Mexico
CATEGORIES:Calle
ATTACH;FMTTYPE=image/png:https://soloatletas.com/wp-content/uploads/SPTMCAR1753990070_logo.png
END:VEVENT
BEGIN:VEVENT
DTSTART;TZID=America/Mexico_City:20260111T060000
DTEND;TZID=America/Mexico_City:20260111T060000
DTSTAMP:20260424T211926
CREATED:20251229T183433Z
LAST-MODIFIED:20251229T183452Z
UID:10001621-1768111200-1768111200@soloatletas.com
SUMMARY:Mariposa Monarca 2026 Caminata
DESCRIPTION:
URL:https://soloatletas.com/evento-deportivo/mariposa-monarca-2026-caminata/
LOCATION:Estado de México\, México\, Estado de México\, México\, Estado de México\, Mexico
CATEGORIES:Trail
ATTACH;FMTTYPE=image/jpeg:https://soloatletas.com/wp-content/uploads/IMG_0110.jpeg
ORGANIZER;CN="Ecotura":MAILTO:informacion@ecotura.mx
END:VEVENT
BEGIN:VEVENT
DTSTART;TZID=America/Mexico_City:20260109T080000
DTEND;TZID=America/Mexico_City:20260109T170000
DTSTAMP:20260424T211926
CREATED:20260109T205159Z
LAST-MODIFIED:20260109T205211Z
UID:10001747-1767945600-1767978000@soloatletas.com
SUMMARY:CYCLO TEAM MARIN 15K
DESCRIPTION:
URL:https://soloatletas.com/evento-deportivo/cyclo-team-marin-15k/
LOCATION:Monterrey\, Nuevo León\, Monterrey\, Nuevo León\, Mexico
CATEGORIES:Ciclismo
ATTACH;FMTTYPE=image/png:https://soloatletas.com/wp-content/uploads/IMG_0152.png
END:VEVENT
BEGIN:VEVENT
DTSTART;TZID=America/Mexico_City:20260109T080000
DTEND;TZID=America/Mexico_City:20260109T170000
DTSTAMP:20260424T211926
CREATED:20260109T205108Z
LAST-MODIFIED:20260109T205119Z
UID:10001746-1767945600-1767978000@soloatletas.com
SUMMARY:CYCLO TEAM MARIN 25K
DESCRIPTION:
URL:https://soloatletas.com/evento-deportivo/cyclo-team-marin-25k/
LOCATION:Monterrey\, Nuevo León\, Monterrey\, Nuevo León\, Mexico
CATEGORIES:Ciclismo
ATTACH;FMTTYPE=image/png:https://soloatletas.com/wp-content/uploads/IMG_0152.png
END:VEVENT
BEGIN:VEVENT
DTSTART;TZID=America/Mexico_City:20260109T080000
DTEND;TZID=America/Mexico_City:20260109T170000
DTSTAMP:20260424T211926
CREATED:20260109T205002Z
LAST-MODIFIED:20260109T205023Z
UID:10001745-1767945600-1767978000@soloatletas.com
SUMMARY:CYCLO TEAM MARIN 50K
DESCRIPTION:
URL:https://soloatletas.com/evento-deportivo/cyclo-team-marin-50k/
LOCATION:Monterrey\, Nuevo León\, Monterrey\, Nuevo León\, Mexico
CATEGORIES:Ciclismo
ATTACH;FMTTYPE=image/png:https://soloatletas.com/wp-content/uploads/IMG_0152.png
END:VEVENT
BEGIN:VEVENT
DTSTART;TZID=America/Mexico_City:20260109T080000
DTEND;TZID=America/Mexico_City:20260109T170000
DTSTAMP:20260424T211926
CREATED:20260109T204710Z
LAST-MODIFIED:20260109T204724Z
UID:10001744-1767945600-1767978000@soloatletas.com
SUMMARY:CYCLO TEAM MARIN 75K
DESCRIPTION:
URL:https://soloatletas.com/evento-deportivo/cyclo-team-marin-75k/
LOCATION:Monterrey\, Nuevo León\, Monterrey\, Nuevo León\, Mexico
CATEGORIES:Ciclismo
ATTACH;FMTTYPE=image/png:https://soloatletas.com/wp-content/uploads/IMG_0152.png
END:VEVENT
BEGIN:VEVENT
DTSTART;TZID=America/Mexico_City:20260104T070000
DTEND;TZID=America/Mexico_City:20260104T070000
DTSTAMP:20260424T211926
CREATED:20251227T221905Z
LAST-MODIFIED:20251227T221916Z
UID:10001544-1767510000-1767510000@soloatletas.com
SUMMARY:Carrera de Reyes 2026 100mt
DESCRIPTION:
URL:https://soloatletas.com/evento-deportivo/carrera-de-reyes-2026-100mt/
LOCATION:2a. Sección del Bosque de Chapultepec\, CDMX\, 2a. Sección del Bosque de Chapultepec\, CDMX\, Mexico
CATEGORIES:Calle
ATTACH;FMTTYPE=image/jpeg:https://soloatletas.com/wp-content/uploads/IMG_0083.jpeg
END:VEVENT
BEGIN:VEVENT
DTSTART;TZID=America/Mexico_City:20260104T070000
DTEND;TZID=America/Mexico_City:20260104T070000
DTSTAMP:20260424T211926
CREATED:20251227T221810Z
LAST-MODIFIED:20251227T221821Z
UID:10001543-1767510000-1767510000@soloatletas.com
SUMMARY:Carrera de Reyes 2026 200mt
DESCRIPTION:
URL:https://soloatletas.com/evento-deportivo/carrera-de-reyes-2026-200mt/
LOCATION:2a. Sección del Bosque de Chapultepec\, CDMX\, 2a. Sección del Bosque de Chapultepec\, CDMX\, Mexico
CATEGORIES:Calle
ATTACH;FMTTYPE=image/jpeg:https://soloatletas.com/wp-content/uploads/IMG_0083.jpeg
END:VEVENT
END:VCALENDAR