BEGIN:VCALENDAR
VERSION:2.0
PRODID:-//Solo Atletas - ECPv6.15.16//NONSGML v1.0//EN
CALSCALE:GREGORIAN
METHOD:PUBLISH
X-WR-CALNAME:Solo Atletas
X-ORIGINAL-URL:https://soloatletas.com
X-WR-CALDESC:Eventos para Solo Atletas
REFRESH-INTERVAL;VALUE=DURATION:PT1H
X-Robots-Tag:noindex
X-PUBLISHED-TTL:PT1H
BEGIN:VTIMEZONE
TZID:America/Mexico_City
BEGIN:STANDARD
TZOFFSETFROM:-0600
TZOFFSETTO:-0600
TZNAME:CST
DTSTART:20250101T000000
END:STANDARD
END:VTIMEZONE
BEGIN:VEVENT
DTSTART;TZID=America/Mexico_City:20260315T070000
DTEND;TZID=America/Mexico_City:20260315T070000
DTSTAMP:20260422T042542
CREATED:20260311T215059Z
LAST-MODIFIED:20260311T215124Z
UID:10001891-1773558000-1773558000@soloatletas.com
SUMMARY:Mujer Querétaro Medio Maratón 2026 5K
DESCRIPTION:
URL:https://soloatletas.com/evento-deportivo/mujer-queretaro-medio-maraton-2026-5k/
LOCATION:Querétaro\, Querétaro\, Querétaro\, Querétaro\, Mexico
CATEGORIES:Calle
ATTACH;FMTTYPE=image/jpeg:https://soloatletas.com/wp-content/uploads/1766512059521_Logo-eventoMQMMZ26.jpg
END:VEVENT
BEGIN:VEVENT
DTSTART;TZID=America/Mexico_City:20260315T070000
DTEND;TZID=America/Mexico_City:20260315T070000
DTSTAMP:20260422T042542
CREATED:20260311T215000Z
LAST-MODIFIED:20260311T215000Z
UID:10001890-1773558000-1773558000@soloatletas.com
SUMMARY:Mujer Querétaro Medio Maratón 2026 10K
DESCRIPTION:
URL:https://soloatletas.com/evento-deportivo/mujer-queretaro-medio-maraton-2026-10k/
LOCATION:Querétaro\, Querétaro\, Querétaro\, Querétaro\, Mexico
CATEGORIES:Calle
ATTACH;FMTTYPE=image/jpeg:https://soloatletas.com/wp-content/uploads/1766512059521_Logo-eventoMQMMZ26.jpg
END:VEVENT
BEGIN:VEVENT
DTSTART;TZID=America/Mexico_City:20260315T070000
DTEND;TZID=America/Mexico_City:20260315T070000
DTSTAMP:20260422T042542
CREATED:20260311T214753Z
LAST-MODIFIED:20260311T214833Z
UID:10001889-1773558000-1773558000@soloatletas.com
SUMMARY:Mujer Querétaro Medio Maratón 2026 21K
DESCRIPTION:
URL:https://soloatletas.com/evento-deportivo/mujer-queretaro-medio-maraton-2026-21k/
LOCATION:Querétaro\, Querétaro\, Querétaro\, Querétaro\, Mexico
CATEGORIES:Calle
ATTACH;FMTTYPE=image/jpeg:https://soloatletas.com/wp-content/uploads/1766512059521_Logo-eventoMQMMZ26.jpg
END:VEVENT
BEGIN:VEVENT
DTSTART;TZID=America/Mexico_City:20260315T070000
DTEND;TZID=America/Mexico_City:20260315T070000
DTSTAMP:20260422T042542
CREATED:20260311T214249Z
LAST-MODIFIED:20260311T214328Z
UID:10001888-1773558000-1773558000@soloatletas.com
SUMMARY:2da Carrera Mujeres Imparables 2026 3K
DESCRIPTION:
URL:https://soloatletas.com/evento-deportivo/2da-carrera-mujeres-imparables-2026-3k/
LOCATION:Puebla Zaragoza\, Puebla\, Puebla Zaragoza\, Zaragoza\, Puebla\, Mexico
CATEGORIES:Calle
ATTACH;FMTTYPE=image/jpeg:https://soloatletas.com/wp-content/uploads/1767803647638_logo-carrera-mujeres-imparables-1.jpg
END:VEVENT
BEGIN:VEVENT
DTSTART;TZID=America/Mexico_City:20260315T070000
DTEND;TZID=America/Mexico_City:20260315T070000
DTSTAMP:20260422T042542
CREATED:20260311T214042Z
LAST-MODIFIED:20260311T214105Z
UID:10001887-1773558000-1773558000@soloatletas.com
SUMMARY:2da Carrera Mujeres Imparables 2026 5.7K
DESCRIPTION:
URL:https://soloatletas.com/evento-deportivo/2da-carrera-mujeres-imparables-2026-5-7k/
LOCATION:Puebla Zaragoza\, Puebla\, Puebla Zaragoza\, Zaragoza\, Puebla\, Mexico
CATEGORIES:Calle
ATTACH;FMTTYPE=image/jpeg:https://soloatletas.com/wp-content/uploads/1767803647638_logo-carrera-mujeres-imparables-1.jpg
END:VEVENT
BEGIN:VEVENT
DTSTART;TZID=America/Mexico_City:20260315T070000
DTEND;TZID=America/Mexico_City:20260315T070000
DTSTAMP:20260422T042542
CREATED:20260311T213810Z
LAST-MODIFIED:20260311T213926Z
UID:10001886-1773558000-1773558000@soloatletas.com
SUMMARY:2da Carrera Mujeres Imparables 2026 10K
DESCRIPTION:
URL:https://soloatletas.com/evento-deportivo/2da-carrera-mujeres-imparables-2026-10k/
LOCATION:Puebla Zaragoza\, Puebla\, Puebla Zaragoza\, Zaragoza\, Puebla\, Mexico
CATEGORIES:Calle
ATTACH;FMTTYPE=image/jpeg:https://soloatletas.com/wp-content/uploads/1767803647638_logo-carrera-mujeres-imparables-1.jpg
END:VEVENT
BEGIN:VEVENT
DTSTART;TZID=America/Mexico_City:20260315T070000
DTEND;TZID=America/Mexico_City:20260315T070000
DTSTAMP:20260422T042542
CREATED:20251229T205002Z
LAST-MODIFIED:20251229T205104Z
UID:10001637-1773558000-1773558000@soloatletas.com
SUMMARY:1ra Carrera por la Salud Mental - Corriendo por una Mente Sana 3K
DESCRIPTION:
URL:https://soloatletas.com/evento-deportivo/1ra-carrera-por-la-salud-mental-corriendo-por-una-mente-sana-3k/
LOCATION:Puebla Zaragoza\, Puebla\, Puebla Zaragoza\, Zaragoza\, Puebla\, Mexico
CATEGORIES:Calle
ATTACH;FMTTYPE=image/jpeg:https://soloatletas.com/wp-content/uploads/1761066876729_Logo_V2-100-1.jpg
ORGANIZER;CN="gabriela.guzman":MAILTO:gabriela.guzman@feelink.com.mx
END:VEVENT
BEGIN:VEVENT
DTSTART;TZID=America/Mexico_City:20260315T070000
DTEND;TZID=America/Mexico_City:20260315T070000
DTSTAMP:20260422T042542
CREATED:20251229T204715Z
LAST-MODIFIED:20251229T204904Z
UID:10001636-1773558000-1773558000@soloatletas.com
SUMMARY:1ra Carrera por la Salud Mental - Corriendo por una Mente Sana 5K
DESCRIPTION:
URL:https://soloatletas.com/evento-deportivo/1ra-carrera-por-la-salud-mental-corriendo-por-una-mente-sana-5k/
LOCATION:Puebla Zaragoza\, Puebla\, Puebla Zaragoza\, Zaragoza\, Puebla\, Mexico
CATEGORIES:Calle
ATTACH;FMTTYPE=image/jpeg:https://soloatletas.com/wp-content/uploads/1761066876729_Logo_V2-100-1.jpg
ORGANIZER;CN="gabriela.guzman":MAILTO:gabriela.guzman@feelink.com.mx
END:VEVENT
BEGIN:VEVENT
DTSTART;TZID=America/Mexico_City:20260315T070000
DTEND;TZID=America/Mexico_City:20260315T070000
DTSTAMP:20260422T042542
CREATED:20251229T204036Z
LAST-MODIFIED:20251229T204036Z
UID:10001635-1773558000-1773558000@soloatletas.com
SUMMARY:1ra Carrera por la Salud Mental - Corriendo por una Mente Sana 10K
DESCRIPTION:
URL:https://soloatletas.com/evento-deportivo/1ra-carrera-por-la-salud-mental-corriendo-por-una-mente-sana-10k/
LOCATION:Puebla Zaragoza\, Puebla\, Puebla Zaragoza\, Zaragoza\, Puebla\, Mexico
CATEGORIES:Calle
ATTACH;FMTTYPE=image/jpeg:https://soloatletas.com/wp-content/uploads/1761066876729_Logo_V2-100-1.jpg
ORGANIZER;CN="gabriela.guzman":MAILTO:gabriela.guzman@feelink.com.mx
END:VEVENT
BEGIN:VEVENT
DTSTART;TZID=America/Mexico_City:20260315T060000
DTEND;TZID=America/Mexico_City:20260315T060000
DTSTAMP:20260422T042542
CREATED:20260312T190102Z
LAST-MODIFIED:20260312T190433Z
UID:10001894-1773554400-1773554400@soloatletas.com
SUMMARY:13a. Carrera Rosticeria Cesar\, 10k y 5k 2026 5K
DESCRIPTION:
URL:https://soloatletas.com/evento-deportivo/13a-carrera-rosticeria-cesar-10k-y-5k-2026-5k/
LOCATION:Ixtlahuaca\, EDO. MEX.\, Ixtlahuaca\, EDO. MEX.\, Ciudad de México\, Estado de México\, Mexico
CATEGORIES:Calle
ATTACH;FMTTYPE=image/jpeg:https://soloatletas.com/wp-content/uploads/1768948965053_1__logo_del_evento-1.jpg
ORGANIZER;CN="Rosticeria Cesar":MAILTO:runmarketingtoluca@gmail.com
END:VEVENT
BEGIN:VEVENT
DTSTART;TZID=America/Mexico_City:20260315T060000
DTEND;TZID=America/Mexico_City:20260315T060000
DTSTAMP:20260422T042542
CREATED:20260312T184339Z
LAST-MODIFIED:20260312T184904Z
UID:10001893-1773554400-1773554400@soloatletas.com
SUMMARY:13a. Carrera Rosticeria Cesar\, 10k y 5k 2026 10K
DESCRIPTION:
URL:https://soloatletas.com/evento-deportivo/13a-carrera-rosticeria-cesar-10k-y-5k-2026-10k/
LOCATION:Ixtlahuaca\, EDO. MEX.\, Ixtlahuaca\, EDO. MEX.\, Ciudad de México\, Estado de México\, Mexico
CATEGORIES:Calle
ATTACH;FMTTYPE=image/jpeg:https://soloatletas.com/wp-content/uploads/1768948965053_1__logo_del_evento-1.jpg
ORGANIZER;CN="Rosticeria Cesar":MAILTO:runmarketingtoluca@gmail.com
END:VEVENT
BEGIN:VEVENT
DTSTART;TZID=America/Mexico_City:20260315T060000
DTEND;TZID=America/Mexico_City:20260315T060000
DTSTAMP:20260422T042542
CREATED:20260208T142356Z
LAST-MODIFIED:20260208T142633Z
UID:10001796-1773554400-1773554400@soloatletas.com
SUMMARY:Utt - ULTRA TRAIL TEOCELO 2.5K
DESCRIPTION:
URL:https://soloatletas.com/evento-deportivo/utt-ultra-trail-teocelo-5k-2/
LOCATION:Veracrúz\, Veracrúz\, Veracrúz\, Veracrúz\, Mexico
CATEGORIES:Trail
ATTACH;FMTTYPE=image/jpeg:https://soloatletas.com/wp-content/uploads/trailteocelo.jpg
END:VEVENT
BEGIN:VEVENT
DTSTART;TZID=America/Mexico_City:20260315T060000
DTEND;TZID=America/Mexico_City:20260315T060000
DTSTAMP:20260422T042542
CREATED:20260208T141549Z
LAST-MODIFIED:20260208T141625Z
UID:10001795-1773554400-1773554400@soloatletas.com
SUMMARY:Utt - ULTRA TRAIL TEOCELO 5K
DESCRIPTION:
URL:https://soloatletas.com/evento-deportivo/utt-ultra-trail-teocelo-5k/
LOCATION:Veracrúz\, Veracrúz\, Veracrúz\, Veracrúz\, Mexico
CATEGORIES:Trail
ATTACH;FMTTYPE=image/jpeg:https://soloatletas.com/wp-content/uploads/trailteocelo.jpg
END:VEVENT
BEGIN:VEVENT
DTSTART;TZID=America/Mexico_City:20260315T060000
DTEND;TZID=America/Mexico_City:20260315T060000
DTSTAMP:20260422T042542
CREATED:20260208T141309Z
LAST-MODIFIED:20260208T141322Z
UID:10001794-1773554400-1773554400@soloatletas.com
SUMMARY:Utt - ULTRA TRAIL TEOCELO 7k
DESCRIPTION:
URL:https://soloatletas.com/evento-deportivo/utt-ultra-trail-teocelo-7k/
LOCATION:Veracrúz\, Veracrúz\, Veracrúz\, Veracrúz\, Mexico
CATEGORIES:Trail
ATTACH;FMTTYPE=image/jpeg:https://soloatletas.com/wp-content/uploads/trailteocelo.jpg
END:VEVENT
BEGIN:VEVENT
DTSTART;TZID=America/Mexico_City:20260315T060000
DTEND;TZID=America/Mexico_City:20260315T060000
DTSTAMP:20260422T042542
CREATED:20260208T140212Z
LAST-MODIFIED:20260208T140224Z
UID:10001793-1773554400-1773554400@soloatletas.com
SUMMARY:Utt - ULTRA TRAIL TEOCELO 12k
DESCRIPTION:
URL:https://soloatletas.com/evento-deportivo/utt-ultra-trail-teocelo-12k/
LOCATION:Veracrúz\, Veracrúz\, Veracrúz\, Veracrúz\, Mexico
CATEGORIES:Trail
ATTACH;FMTTYPE=image/jpeg:https://soloatletas.com/wp-content/uploads/trailteocelo.jpg
END:VEVENT
BEGIN:VEVENT
DTSTART;TZID=America/Mexico_City:20260315T060000
DTEND;TZID=America/Mexico_City:20260315T060000
DTSTAMP:20260422T042542
CREATED:20260208T135937Z
LAST-MODIFIED:20260208T140011Z
UID:10001792-1773554400-1773554400@soloatletas.com
SUMMARY:Utt - ULTRA TRAIL TEOCELO 23k
DESCRIPTION:
URL:https://soloatletas.com/evento-deportivo/utt-ultra-trail-teocelo-23k/
LOCATION:Veracrúz\, Veracrúz\, Veracrúz\, Veracrúz\, Mexico
CATEGORIES:Trail
ATTACH;FMTTYPE=image/jpeg:https://soloatletas.com/wp-content/uploads/trailteocelo.jpg
END:VEVENT
BEGIN:VEVENT
DTSTART;TZID=America/Mexico_City:20260315T060000
DTEND;TZID=America/Mexico_City:20260315T060000
DTSTAMP:20260422T042542
CREATED:20260208T135614Z
LAST-MODIFIED:20260208T135614Z
UID:10001791-1773554400-1773554400@soloatletas.com
SUMMARY:Utt - ULTRA TRAIL TEOCELO 35k
DESCRIPTION:
URL:https://soloatletas.com/evento-deportivo/utt-ultra-trail-teocelo-35k/
LOCATION:Veracrúz\, Veracrúz\, Veracrúz\, Veracrúz\, Mexico
CATEGORIES:Trail
ATTACH;FMTTYPE=image/jpeg:https://soloatletas.com/wp-content/uploads/trailteocelo.jpg
END:VEVENT
BEGIN:VEVENT
DTSTART;TZID=America/Mexico_City:20260315T060000
DTEND;TZID=America/Mexico_City:20260315T060000
DTSTAMP:20260422T042542
CREATED:20260208T133920Z
LAST-MODIFIED:20260208T134250Z
UID:10001790-1773554400-1773554400@soloatletas.com
SUMMARY:Utt - ULTRA TRAIL TEOCELO 50k
DESCRIPTION:
URL:https://soloatletas.com/evento-deportivo/utt-ultra-trail-teocelo-50k/
LOCATION:Veracrúz\, Veracrúz\, Veracrúz\, Veracrúz\, Mexico
CATEGORIES:Trail
ATTACH;FMTTYPE=image/jpeg:https://soloatletas.com/wp-content/uploads/trailteocelo.jpg
END:VEVENT
BEGIN:VEVENT
DTSTART;TZID=America/Mexico_City:20260315T060000
DTEND;TZID=America/Mexico_City:20260315T060000
DTSTAMP:20260422T042542
CREATED:20260107T204215Z
LAST-MODIFIED:20260107T204215Z
UID:10001741-1773554400-1773554400@soloatletas.com
SUMMARY:MEDIO MARATÓN SAN PEDRO 2026 5K
DESCRIPTION:
URL:https://soloatletas.com/evento-deportivo/medio-maraton-san-pedro-2026-5k/
LOCATION:San pedro\, NL\, San Pedro\, San Pedro\, Nuevo León\, Mexico
CATEGORIES:Calle
ATTACH;FMTTYPE=image/png:https://soloatletas.com/wp-content/uploads/IMG_0142.png
END:VEVENT
BEGIN:VEVENT
DTSTART;TZID=America/Mexico_City:20260315T060000
DTEND;TZID=America/Mexico_City:20260315T060000
DTSTAMP:20260422T042542
CREATED:20260107T203611Z
LAST-MODIFIED:20260107T203624Z
UID:10001740-1773554400-1773554400@soloatletas.com
SUMMARY:MEDIO MARATÓN SAN PEDRO 2026 21K
DESCRIPTION:
URL:https://soloatletas.com/evento-deportivo/medio-maraton-san-pedro-2026-21k/
LOCATION:San pedro\, NL\, San Pedro\, San Pedro\, Nuevo León\, Mexico
CATEGORIES:Calle
ATTACH;FMTTYPE=image/png:https://soloatletas.com/wp-content/uploads/IMG_0142.png
END:VEVENT
BEGIN:VEVENT
DTSTART;TZID=America/Mexico_City:20260315T050000
DTEND;TZID=America/Mexico_City:20260315T050000
DTSTAMP:20260422T042542
CREATED:20260102T200934Z
LAST-MODIFIED:20260102T200947Z
UID:10001718-1773550800-1773550800@soloatletas.com
SUMMARY:CARRERA D TEOTIHUACAN 2026 "3 Km\, 5 Km y 10 Km." 21K
DESCRIPTION:
URL:https://soloatletas.com/evento-deportivo/carrera-d-teotihuacan-2026-3-km-5-km-y-10-km-21k-2/
LOCATION:Teotihuacán\, Estado de México\, Teotihuacán\, Estado de México\, Mexico
CATEGORIES:Calle
ATTACH;FMTTYPE=image/jpeg:https://soloatletas.com/wp-content/uploads/IMG_0127.jpeg
ORGANIZER;CN="Marcate":MAILTO:contacto@marcate.com.mx
END:VEVENT
BEGIN:VEVENT
DTSTART;TZID=America/Mexico_City:20260315T050000
DTEND;TZID=America/Mexico_City:20260315T050000
DTSTAMP:20260422T042542
CREATED:20260102T200634Z
LAST-MODIFIED:20260102T200847Z
UID:10001717-1773550800-1773550800@soloatletas.com
SUMMARY:CARRERA D TEOTIHUACAN 2026 "3 Km\, 5 Km y 10 Km." 42K
DESCRIPTION:
URL:https://soloatletas.com/evento-deportivo/carrera-d-teotihuacan-2026-3-km-5-km-y-10-km-21k/
LOCATION:Teotihuacán\, Estado de México\, Teotihuacán\, Estado de México\, Mexico
CATEGORIES:Calle
ATTACH;FMTTYPE=image/jpeg:https://soloatletas.com/wp-content/uploads/IMG_0127.jpeg
ORGANIZER;CN="Marcate":MAILTO:contacto@marcate.com.mx
END:VEVENT
BEGIN:VEVENT
DTSTART;TZID=America/Mexico_City:20260314T100000
DTEND;TZID=America/Mexico_City:20260314T100000
DTSTAMP:20260422T042542
CREATED:20260311T212421Z
LAST-MODIFIED:20260311T212500Z
UID:10001885-1773482400-1773482400@soloatletas.com
SUMMARY:2da Fecha del Serial Nacional de Downhill Atlixco 2026 1.5K
DESCRIPTION:
URL:https://soloatletas.com/evento-deportivo/2da-fecha-del-serial-nacional-de-downhill-atlixco-2026-1-5k/
LOCATION:Puebla Zaragoza\, Puebla\, Puebla Zaragoza\, Zaragoza\, Puebla\, Mexico
CATEGORIES:Ciclismo
ATTACH;FMTTYPE=image/jpeg:https://soloatletas.com/wp-content/uploads/1770136043167_LOGO-300-ATLIXCO-OK.jpg
END:VEVENT
BEGIN:VEVENT
DTSTART;TZID=America/Mexico_City:20260314T070000
DTEND;TZID=America/Mexico_City:20260314T070000
DTSTAMP:20260422T042542
CREATED:20260311T211346Z
LAST-MODIFIED:20260311T211414Z
UID:10001884-1773471600-1773471600@soloatletas.com
SUMMARY:11va Carrera La Salle 2026 3K
DESCRIPTION:
URL:https://soloatletas.com/evento-deportivo/11va-carrera-la-salle-2026-3k/
LOCATION:2a. Sección del Bosque de Chapultepec\, CDMX\, 2a. Sección del Bosque de Chapultepec\, CDMX\, Mexico
CATEGORIES:Calle
ATTACH;FMTTYPE=image/jpeg:https://soloatletas.com/wp-content/uploads/1770218165892_la-salle-logo-1.jpg
ORGANIZER;CN="LaSalle":MAILTO:hola@juzt.run
END:VEVENT
BEGIN:VEVENT
DTSTART;TZID=America/Mexico_City:20260314T070000
DTEND;TZID=America/Mexico_City:20260314T070000
DTSTAMP:20260422T042542
CREATED:20260311T210908Z
LAST-MODIFIED:20260311T211225Z
UID:10001883-1773471600-1773471600@soloatletas.com
SUMMARY:11va Carrera La Salle 2026 5K
DESCRIPTION:
URL:https://soloatletas.com/evento-deportivo/11va-carrera-la-salle-2026-5k/
LOCATION:2a. Sección del Bosque de Chapultepec\, CDMX\, 2a. Sección del Bosque de Chapultepec\, CDMX\, Mexico
CATEGORIES:Calle
ATTACH;FMTTYPE=image/jpeg:https://soloatletas.com/wp-content/uploads/1770218165892_la-salle-logo-1.jpg
ORGANIZER;CN="LaSalle":MAILTO:hola@juzt.run
END:VEVENT
BEGIN:VEVENT
DTSTART;TZID=America/Mexico_City:20260314T050000
DTEND;TZID=America/Mexico_City:20260314T050000
DTSTAMP:20260422T042542
CREATED:20260102T200309Z
LAST-MODIFIED:20260102T200342Z
UID:10001716-1773464400-1773464400@soloatletas.com
SUMMARY:CARRERA D TEOTIHUACAN 2026 "3 Km\, 5 Km y 10 Km." 3K
DESCRIPTION:
URL:https://soloatletas.com/evento-deportivo/carrera-d-teotihuacan-2026-3-km-5-km-y-10-km-3k/
LOCATION:Teotihuacán\, Estado de México\, Teotihuacán\, Estado de México\, Mexico
CATEGORIES:Calle
ATTACH;FMTTYPE=image/jpeg:https://soloatletas.com/wp-content/uploads/IMG_0127.jpeg
ORGANIZER;CN="Marcate":MAILTO:contacto@marcate.com.mx
END:VEVENT
BEGIN:VEVENT
DTSTART;TZID=America/Mexico_City:20260314T050000
DTEND;TZID=America/Mexico_City:20260314T050000
DTSTAMP:20260422T042542
CREATED:20260102T200014Z
LAST-MODIFIED:20260102T200201Z
UID:10001715-1773464400-1773464400@soloatletas.com
SUMMARY:CARRERA D TEOTIHUACAN 2026 "3 Km\, 5 Km y 10 Km." 5K
DESCRIPTION:
URL:https://soloatletas.com/evento-deportivo/carrera-d-teotihuacan-2026-3-km-5-km-y-10-km-5k/
LOCATION:Teotihuacán\, Estado de México\, Teotihuacán\, Estado de México\, Mexico
CATEGORIES:Calle
ATTACH;FMTTYPE=image/jpeg:https://soloatletas.com/wp-content/uploads/IMG_0127.jpeg
ORGANIZER;CN="Marcate":MAILTO:contacto@marcate.com.mx
END:VEVENT
BEGIN:VEVENT
DTSTART;TZID=America/Mexico_City:20260314T050000
DTEND;TZID=America/Mexico_City:20260314T050000
DTSTAMP:20260422T042542
CREATED:20260102T195726Z
LAST-MODIFIED:20260102T195829Z
UID:10001714-1773464400-1773464400@soloatletas.com
SUMMARY:CARRERA D TEOTIHUACAN 2026 "3 Km\, 5 Km y 10 Km." 10K
DESCRIPTION:
URL:https://soloatletas.com/evento-deportivo/carrera-d-teotihuacan-2026-3-km-5-km-y-10-km-10k/
LOCATION:Teotihuacán\, Estado de México\, Teotihuacán\, Estado de México\, Mexico
CATEGORIES:Calle
ATTACH;FMTTYPE=image/jpeg:https://soloatletas.com/wp-content/uploads/IMG_0127.jpeg
ORGANIZER;CN="Marcate":MAILTO:contacto@marcate.com.mx
END:VEVENT
BEGIN:VEVENT
DTSTART;TZID=America/Mexico_City:20260313T080000
DTEND;TZID=America/Mexico_City:20260315T000000
DTSTAMP:20260422T042542
CREATED:20250508T020327Z
LAST-MODIFIED:20250508T020327Z
UID:10001075-1773388800-1773532800@soloatletas.com
SUMMARY:Nomadix Adventure Ocean to Ocean 2026 presentado por Banorte
DESCRIPTION:
URL:https://soloatletas.com/evento-deportivo/nomadix-adventure-ocean-to-ocean-2026-presentado-por-banorte/
LOCATION:Todos Santos\, Baja California Sur\, Todos Santos\, Todos Santos\, Baja California Sur\, Mexico
CATEGORIES:Ciclismo
ATTACH;FMTTYPE=image/jpeg:https://soloatletas.com/wp-content/uploads/1742235595905_Nomadix-26-logo-300.jpg
END:VEVENT
BEGIN:VEVENT
DTSTART;TZID=America/Mexico_City:20260313T070000
DTEND;TZID=America/Mexico_City:20260313T070000
DTSTAMP:20260422T042542
CREATED:20260219T014256Z
LAST-MODIFIED:20260219T014559Z
UID:10001825-1773385200-1773385200@soloatletas.com
SUMMARY:Nomadix Adventure Ocean to Ocean 2026 Equipo Premium
DESCRIPTION:
URL:https://soloatletas.com/evento-deportivo/nomadix-adventure-ocean-to-ocean-2026-equipo-premium/
LOCATION:Baja California Sur\, Baja California Sur\, Baja California Sur\, Mexico
CATEGORIES:Ciclismo
ATTACH;FMTTYPE=image/jpeg:https://soloatletas.com/wp-content/uploads/84c2600b-fae3-4956-aa20-9b38127835e4.jpeg
END:VEVENT
END:VCALENDAR